BEGIN:VCALENDAR
VERSION:2.0
PRODID:-//wp-events-plugin.com//7.2.3.1//EN
TZID:America/New_York
X-WR-TIMEZONE:America/New_York
BEGIN:VEVENT
UID:1672@wvpst.org
DTSTART;TZID=America/New_York;VALUE=DATE:20210301
DTEND;TZID=America/New_York;VALUE=DATE:20210302
DTSTAMP:20210203T191512Z
URL:https://wvpst.org/events/wvoems-ems-protocol-updates/
SUMMARY:WVOEMS EMS Protocol Updates
DESCRIPTION:WVPST has worked with WVOEMS to provide an option for an option
  for providers to complete an online protocol refresher. Applicants are re
 quired to complete the education material and review scenarios. Once the c
 ourse material is completed\, applicants must complete the course registra
 tion to receive credit for the program. Failure to complete the course reg
 istration for WVPST will result in no certificate being issued for the pro
 gram.\n\nIn the future this course will be offered through RETI in a more 
 inclusive platform. More time is required to provide a comprehensive class
  that meets the needs of EMS professionals.\n\nClick Here for Registration
CATEGORIES:WVPST Martinsburg
END:VEVENT
BEGIN:VTIMEZONE
TZID:America/New_York
X-LIC-LOCATION:America/New_York
BEGIN:STANDARD
DTSTART:20201101T010000
TZOFFSETFROM:-0400
TZOFFSETTO:-0500
TZNAME:EST
END:STANDARD
END:VTIMEZONE
END:VCALENDAR