BEGIN:VCALENDAR
VERSION:2.0
PRODID:-//wp-events-plugin.com//7.2.3.1//EN
TZID:America/New_York
X-WR-TIMEZONE:America/New_York
BEGIN:VEVENT
UID:819@wvpst.org
DTSTART;TZID=America/New_York:20190306T080000
DTEND;TZID=America/New_York:20190306T120000
DTSTAMP:20190125T160115Z
URL:https://wvpst.org/events/wv-paramedic-refresher-modules/
SUMMARY:WV Paramedic Refresher Modules
DESCRIPTION:&nbsp\;\n\nUnited Hospital Center will be offering all of the W
 V Paramedic refresher modules over the course of 2019.  Dates are below\,
  with times for each date being 8am - 12pm.  There is no cost for these c
 lasses.\n\nDates: 3/6/19\, 4/16/19\, 5/22/19\, 6/11/19\, 8/14/19\, 9/11/19
 \, 10/15/19\, and 12/10/19.\n\nSeats in each session will be limited so co
 ntact Darlene Scott at scottd@wvumedicine.org or 681-342-1954 to register 
 or with questions.\n\nTHIS IS NOT A WVPST HOSTED COURSE.  WE ARE SHARING 
 THE INFORMATION ONLY.
CATEGORIES:WVPST Clarksburg
LOCATION:United Hospital Center\, 327 Medical Park Drive\, Bridgeport\, Wes
 t Virginia\, 26330\, United States
GEO:39.328546;-80.23957899999999
X-APPLE-STRUCTURED-LOCATION;VALUE=URI;X-ADDRESS=327 Medical Park Drive\, Br
 idgeport\, West Virginia\, 26330\, United States;X-APPLE-RADIUS=100;X-TITL
 E=United Hospital Center:geo:39.328546,-80.23957899999999
END:VEVENT
BEGIN:VTIMEZONE
TZID:America/New_York
X-LIC-LOCATION:America/New_York
BEGIN:STANDARD
DTSTART:20181104T010000
TZOFFSETFROM:-0400
TZOFFSETTO:-0500
TZNAME:EST
END:STANDARD
END:VTIMEZONE
END:VCALENDAR