BEGIN:VCALENDAR
VERSION:2.0
PRODID:-//wp-events-plugin.com//7.2.3.1//EN
TZID:America/New_York
X-WR-TIMEZONE:America/New_York
BEGIN:VEVENT
UID:1226@wvpst.org
DTSTART;TZID=America/New_York:20200109T193000
DTEND;TZID=America/New_York:20200109T213000
DTSTAMP:20200108T142817Z
URL:https://wvpst.org/events/wv-mci/
SUMMARY:WV MCI
DESCRIPTION:WV MCI\n\nWest Virginia Mass Casualty Incident Levels 1 and 2 w
 ill be taught at the Upper Tract VFD Training Center on January 9 and 10 2
 020.  Level 1 will be on Thursday 1-9-2020 from 7:30 to 9:30 pm (NOTE: Th
 is was originally scheduled for 6 to 8 pm) and Level 2 will be on Friday 1
 -10-2020 from 6 to 10 pm.  Mike Alt is the instructor.  Preregistration 
 is not required.\n\nClick here for an Updated Course Flyer
CATEGORIES:WVPST Martinsburg
LOCATION:Upper Tract VFD Training Center\, 11596 Petersburg Pike\, Upper Tr
 act\, WV\, 26866\, United States
GEO:38.7911349;-79.28252989999998
X-APPLE-STRUCTURED-LOCATION;VALUE=URI;X-ADDRESS=11596 Petersburg Pike\, Upp
 er Tract\, WV\, 26866\, United States;X-APPLE-RADIUS=100;X-TITLE=Upper Tra
 ct VFD Training Center:geo:38.7911349,-79.28252989999998
END:VEVENT
BEGIN:VTIMEZONE
TZID:America/New_York
X-LIC-LOCATION:America/New_York
BEGIN:STANDARD
DTSTART:20191103T010000
TZOFFSETFROM:-0400
TZOFFSETTO:-0500
TZNAME:EST
END:STANDARD
END:VTIMEZONE
END:VCALENDAR