BEGIN:VCALENDAR
VERSION:2.0
PRODID:-//wp-events-plugin.com//7.2.3.1//EN
TZID:America/New_York
X-WR-TIMEZONE:America/New_York
BEGIN:VEVENT
UID:1311@wvpst.org
DTSTART;TZID=America/New_York:20200212T130000
DTEND;TZID=America/New_York:20200212T130000
DTSTAMP:20200128T150743Z
URL:https://wvpst.org/events/wv-mci-modules-12-2/
SUMMARY:WV MCI Modules 1&2
DESCRIPTION:The six hour WV MCI Modules 1&amp\;2 will be offered at United 
 Technical Center\, Clarksburg\, WV (Harrison) on February 12\, 2020 starti
 ng at 1:00pm.  In addition to meeting requirements for those trying to ob
 tain initial certification with WVOEMS\, this class would also meet and ex
 ceed the requirements for MCI refresher training for EMS provider recertif
 ication.  The course location at UTC will be in the portable classroom ou
 t by the burn training tower.  Mickey Rinehart is the instructor.
CATEGORIES:WVPST Clarksburg
LOCATION:\, \, 
X-APPLE-STRUCTURED-LOCATION;VALUE=URI;X-ADDRESS=\, ;X-APPLE-RADIUS=100;X-TI
 TLE=:geo:0,0
END:VEVENT
BEGIN:VTIMEZONE
TZID:America/New_York
X-LIC-LOCATION:America/New_York
BEGIN:STANDARD
DTSTART:20191103T010000
TZOFFSETFROM:-0400
TZOFFSETTO:-0500
TZNAME:EST
END:STANDARD
END:VTIMEZONE
END:VCALENDAR