BEGIN:VCALENDAR
VERSION:2.0
PRODID:-//wp-events-plugin.com//7.2.3.1//EN
TZID:America/New_York
X-WR-TIMEZONE:America/New_York
BEGIN:VEVENT
UID:2649@wvpst.org
DTSTART;TZID=America/New_York:20231129T090000
DTEND;TZID=America/New_York:20231129T160000
DTSTAMP:20231127T191930Z
URL:https://wvpst.org/events/wv-mci-modules-1-2/
SUMMARY:WV MCI Modules 1 & 2
DESCRIPTION:A 6 hour WV MCI Modules 1 &amp\; 2 class will be held November 
 29\, 2023 at the Braxton County Technology Center\, Flatwoods\, WV (Braxto
 n).  Class will begin at 9am.  Lindsay Schrader is the instructor.\n\nCo
 st for the class is $25 per person.\n\nTo register\, email brian.potter@wv
 esc.org or call 304-326-7581.
CATEGORIES:WVPST Beckley,WVPST Clarksburg
LOCATION:Braxton County Technology Center (WV RETI)\, 89 Richard D. Minnich
  Drive\, Sutton\, WV\, 26601\, United States
GEO:38.664544;-80.709819
X-APPLE-STRUCTURED-LOCATION;VALUE=URI;X-ADDRESS=89 Richard D. Minnich Drive
 \, Sutton\, WV\, 26601\, United States;X-APPLE-RADIUS=100;X-TITLE=Braxton 
 County Technology Center (WV RETI):geo:38.664544,-80.709819
END:VEVENT
BEGIN:VTIMEZONE
TZID:America/New_York
X-LIC-LOCATION:America/New_York
BEGIN:STANDARD
DTSTART:20231105T010000
TZOFFSETFROM:-0400
TZOFFSETTO:-0500
TZNAME:EST
END:STANDARD
END:VTIMEZONE
END:VCALENDAR