BEGIN:VCALENDAR
VERSION:2.0
PRODID:-//wp-events-plugin.com//7.2.3.1//EN
TZID:America/New_York
X-WR-TIMEZONE:America/New_York
BEGIN:VEVENT
UID:996@wvpst.org
DTSTART;TZID=America/New_York:20190714T090000
DTEND;TZID=America/New_York:20190714T150000
DTSTAMP:20190710T192457Z
URL:https://wvpst.org/events/wv-mci-1-and-2-2/
SUMMARY:WV MCI 1 and 2
DESCRIPTION:WV MCI 1 and 2\n\nThe 6-hour WVOEMS Mass Casualty Incident Modu
 les 1 and 2 will be taught at Middleway VFD on Sunday\, July 14\, 2019 at 
 9:00 am.  Steve Harris is the instructor.  Class fee is $35.  Preregist
 ration is not required.
CATEGORIES:WVPST Martinsburg
LOCATION:Middleway VFC\, 110 Dark Hill Road\, Kearneysville\, WV\, United S
 tates
GEO:39.2942416;-77.98039219999998
X-APPLE-STRUCTURED-LOCATION;VALUE=URI;X-ADDRESS=110 Dark Hill Road\, Kearne
 ysville\, WV\, United States;X-APPLE-RADIUS=100;X-TITLE=Middleway VFC:geo:
 39.2942416,-77.98039219999998
END:VEVENT
BEGIN:VTIMEZONE
TZID:America/New_York
X-LIC-LOCATION:America/New_York
BEGIN:DAYLIGHT
DTSTART:20190310T030000
TZOFFSETFROM:-0500
TZOFFSETTO:-0400
TZNAME:EDT
END:DAYLIGHT
END:VTIMEZONE
END:VCALENDAR