BEGIN:VCALENDAR
VERSION:2.0
PRODID:-//wp-events-plugin.com//7.2.3.1//EN
TZID:America/New_York
X-WR-TIMEZONE:America/New_York
BEGIN:VEVENT
UID:504@wvpst.org
DTSTART;TZID=America/New_York:20180607T173000
DTEND;TZID=America/New_York:20180607T203000
DTSTAMP:20180522T180059Z
URL:https://wvpst.org/events/written-test-for-emt-initial-certification/
SUMMARY:Written Test for EMT Initial Certification
DESCRIPTION:Written Test for EMT Initial Certification\n\nThe WVOEMS writte
 n test for Initial EMT Certification will be administered at JCESA in Rans
 on on Thursday\, June 7 2018 at 5:30 pm. This is for a particular class\, 
 but others who are qualified to test or retest can participate by making p
 rior arrangements with Jamie Weller at the WVPST Martinsburg Office.
CATEGORIES:WVPST Martinsburg
LOCATION:JCESA\, Ranson\, 419 16th Ave\, Ranson\, United States
GEO:39.3093497;-77.85679060000001
X-APPLE-STRUCTURED-LOCATION;VALUE=URI;X-ADDRESS=419 16th Ave\, Ranson\, Uni
 ted States;X-APPLE-RADIUS=100;X-TITLE=JCESA\, Ranson:geo:39.3093497,-77.85
 679060000001
END:VEVENT
BEGIN:VTIMEZONE
TZID:America/New_York
X-LIC-LOCATION:America/New_York
BEGIN:DAYLIGHT
DTSTART:20180311T030000
TZOFFSETFROM:-0500
TZOFFSETTO:-0400
TZNAME:EDT
END:DAYLIGHT
END:VTIMEZONE
END:VCALENDAR