BEGIN:VCALENDAR
VERSION:2.0
PRODID:-//wp-events-plugin.com//7.2.3.1//EN
TZID:America/New_York
X-WR-TIMEZONE:America/New_York
BEGIN:VEVENT
UID:500@wvpst.org
DTSTART;TZID=America/New_York:20180523T190000
DTEND;TZID=America/New_York:20180523T210000
DTSTAMP:20180516T123730Z
URL:https://wvpst.org/events/written-test-for-driver-operator-aerial/
SUMMARY:Written Test for Driver Operator Aerial
DESCRIPTION:Written Test for Driver / Operator - Aerial\n\nThe written test
  for Driver/Operator - Aerial will be administered at Blue Ridge Mt VFC on
  Wednesday\, May 23\, 2018 at 7:00 pm. This test is for a particular class
  but others who qualify to test for other fire service subjects can partic
 ipate by making prior arrangements with David Plume at the WVPST Martinsbu
 rg Office.
CATEGORIES:WVPST Martinsburg
LOCATION:Blue Ridge Mt VFC\, 181 Keyes Gap Rd\, Harpers Ferry\, WV\, 25425\
 , United States
GEO:39.2780139;-77.77100050000001
X-APPLE-STRUCTURED-LOCATION;VALUE=URI;X-ADDRESS=181 Keyes Gap Rd\, Harpers 
 Ferry\, WV\, 25425\, United States;X-APPLE-RADIUS=100;X-TITLE=Blue Ridge M
 t VFC:geo:39.2780139,-77.77100050000001
END:VEVENT
BEGIN:VTIMEZONE
TZID:America/New_York
X-LIC-LOCATION:America/New_York
BEGIN:DAYLIGHT
DTSTART:20180311T030000
TZOFFSETFROM:-0500
TZOFFSETTO:-0400
TZNAME:EDT
END:DAYLIGHT
END:VTIMEZONE
END:VCALENDAR