BEGIN:VCALENDAR
VERSION:2.0
PRODID:-//wp-events-plugin.com//7.2.3.1//EN
TZID:America/New_York
X-WR-TIMEZONE:America/New_York
BEGIN:VEVENT
UID:2559@wvpst.org
DTSTART;TZID=America/New_York:20230912T170000
DTEND;TZID=America/New_York:20230912T230000
DTSTAMP:20230809T190344Z
URL:https://wvpst.org/events/water-rescue-technician-3/
SUMMARY:Water Rescue Technician
DESCRIPTION:WVPST is pleased to announce a Water Rescue Technicians class.\
 n\nWhen: September 12\, 16\, and 17\, 2023\n\nTime: 1700-2300 on September
  12\; 0700-1900 on September 16 &amp\; 17\n\nWhere: Institute VFD (301 Dub
 ois St.\, Institute\, WV 25112)\n\nInstructors: CJ Scalf\n\nTuition: $55/p
 erson\n\nThis 30-hour class meets the Technician Level requirements of NFP
 A 1006 Chapters 16\, 17\, and 21. The textbook is “Water Rescue: Princip
 les and Practice to NFPA 1006 and 1670: Surface\, Swiftwater\, Dive\, Ice\
 , Surf\, and Flood”\, Second Edition. The same textbook is used for Wate
 r Rescue Awareness\, Operations\, and Technician.\n\nPrerequisites include
 : Must pass swim test\, Water Rescue Operations OR Water Rescue Level 1.\n
 \nPRE-REGISTRATION REQUIRED!! \n\nTo Register: Follow the guidelines in th
 e attached document using the course number in this posting. WVPST is adop
 ting a new registration platform that we believe will be more user-friendl
 y. Should you have any issues\, please contact Eva Godbey at eva.godbey@k1
 2.wv.us.\n\nLink: www.pstachio.wvnet.edu (If link doesn't work\, use Googl
 e Chrome and search PSTachio.wvnet.edu)\n\nCourse ID: 24-019-03 WVPST Char
 leston\n\nIf you have any questions or issues registering\, please contact
  Eva Godbey at eva.godbey@k12.wv.us\n\n
CATEGORIES:WVPST Charleston
LOCATION:Institute VFD\, 301 Dubois St.\, Institute\, WV\, 25112\, United S
 tates
GEO:38.380688;-81.763791
X-APPLE-STRUCTURED-LOCATION;VALUE=URI;X-ADDRESS=301 Dubois St.\, Institute\
 , WV\, 25112\, United States;X-APPLE-RADIUS=100;X-TITLE=Institute VFD:geo:
 38.380688,-81.763791
END:VEVENT
BEGIN:VTIMEZONE
TZID:America/New_York
X-LIC-LOCATION:America/New_York
BEGIN:DAYLIGHT
DTSTART:20230312T030000
TZOFFSETFROM:-0500
TZOFFSETTO:-0400
TZNAME:EDT
END:DAYLIGHT
END:VTIMEZONE
END:VCALENDAR