BEGIN:VCALENDAR
VERSION:2.0
PRODID:-//wp-events-plugin.com//7.2.3.1//EN
TZID:America/New_York
X-WR-TIMEZONE:America/New_York
BEGIN:VEVENT
UID:1778@wvpst.org
DTSTART;TZID=America/New_York:20210605T080000
DTEND;TZID=America/New_York:20210605T180000
DTSTAMP:20210527T180512Z
URL:https://wvpst.org/events/water-rescue-operations/
SUMMARY:Water Rescue Operations
DESCRIPTION:\nWVPST is pleased to announce a Water Rescue Operations class.
 \n\n\n\nWhen: June 5\, 6\, and 26\, 2021\n\n\n\nTime: 0800-1800 daily\n\n\
 n\nWhere: Institute VFD (301 Dubois St.\, Institute\, WV 25112)\n\n\n\nIns
 tructors: Thomas Robinson and Louie Robinson\n\n\n\nTuition: $45/person\n\
 n\n\nClass Size: 10 seats available\n\n\n\nThis 30-hour class meets the Op
 erations Level requirements of NFPA 1006 Chapters 16\, 17\, and 22. The te
 xtbook is “Water Rescue: Principles and Practice to NFPA 1006 and 1670: 
 Surface\, Swiftwater\, Dive\, Ice\, Surf\, and Flood”\, Second Edition. 
 The same textbook is used for Water Rescue Awareness\, Operations\, and Te
 chnician.\n\n\n\nPrerequisites include: Must pass swim test\, Water Rescue
  Awareness OR WVPST Rescue Core Prerequisites\, AND Rope Rescue Level 1 OR
  Rope Rescue Operations\n\n\n\nIf you have issues\, please contact Eva God
 bey at eva.godbey@k12.wv.us or 304-766-0011 ext. 22\n\n\n\nIf you are inte
 rested\, please sign up using the registration information and the class n
 umber below.\n\n\n\nClass Number: 21-201-03\n\n\n\nPST Class Registrations
 \n\n\nGo to: https://pstachio.wvnet.edu/\n\n\nIf you don’t have an accou
 nt\, click Register.\n\n 	Under location\, select the correct region of yo
 ur home base.\n 	Mid-Ohio Valley: Calhoun\, Gilmer\, Jackson\, Mason\, Put
 nam\, Roane\, Wirt\, Wood\n 	Southwestern: Boone\, Cabell\, Clay\, Kanawha
 \, Lincoln\, Logan\, Mingo\, Wayne\n 	Complete all of the information.\n 	
 Verify account through the email you receive from PSTachio.\n\n 	Once you 
 have verified your account\, the respective PST regional Coordinator and S
 pecialist will receive a notification to approve your account.\n\n\n 	Afte
 r your account has been approved\, you need to log in using the email addr
 ess and password you set up.\n 	Click Registration\n 	Enter the course num
 ber provided to you for the respective course.\n\n 	Ex. Mid-Ohio Valley 21
 -XXX-05\n 	Ex. Southwestern 21-XXX-03\n\n\n 	Press Enter after the course 
 number is entered\n 	Click Register\n\n 	You should be rerouted to your Tr
 anscript.\n\n\n\n\n\n**If you have taken PST courses but have never create
 d an account or try to register and are prompted with an account already e
 xists for that username\, contact your local PST for a password reset.\n\n
 \n**Using the email address and password will allow you to review your tra
 nscript for all PST classes you have taken since July 2016\, provided you 
 have used the same email address for each region. If you have taken a clas
 s and received a certificate\, but it doesn’t show up on your transcript
 \, contact the PST office for the area you took the course.\n
CATEGORIES:WVPST Charleston
LOCATION:Institute VFD\, 301 Dubois St.\, Institute\, WV\, 25112\, United S
 tates
GEO:38.380688;-81.763791
X-APPLE-STRUCTURED-LOCATION;VALUE=URI;X-ADDRESS=301 Dubois St.\, Institute\
 , WV\, 25112\, United States;X-APPLE-RADIUS=100;X-TITLE=Institute VFD:geo:
 38.380688,-81.763791
END:VEVENT
BEGIN:VTIMEZONE
TZID:America/New_York
X-LIC-LOCATION:America/New_York
BEGIN:DAYLIGHT
DTSTART:20210314T030000
TZOFFSETFROM:-0500
TZOFFSETTO:-0400
TZNAME:EDT
END:DAYLIGHT
END:VTIMEZONE
END:VCALENDAR