BEGIN:VCALENDAR
VERSION:2.0
PRODID:-//wp-events-plugin.com//7.2.3.1//EN
TZID:America/New_York
X-WR-TIMEZONE:America/New_York
BEGIN:VEVENT
UID:103@wvpst.org
DTSTART;TZID=America/New_York:20170812T080000
DTEND;TZID=America/New_York:20170812T170000
DTSTAMP:20170809T205929Z
URL:https://wvpst.org/events/water-rescue-level-2/
SUMMARY:Water Rescue Level 2
DESCRIPTION:Water Rescue Level 2\n\nAn 18-hour Swift Water and Surface Wate
 r Rescue Level 2 class will be hosted by Fountain VFC on August 12 &amp\;
  13\, 2017.  The class meets Saturday and Sunday from 8 am to 5 pm.  Ed 
 Sankbeil is the instructor.  Prerequisites:  Swift Water Rescue Level 1 
 OR Swift Water Operations and Rope Rescue Low Angle Operations.  Partici
 pants must provide verification of prerequisite training.  Participants m
 ust provide a swift water helmet and PFD.  Wetsuit is optional.  Course 
 Fee - $35.  Book can be rented for $10 or purchased for $30. Test date fo
 r written final TBD.\n\nNOTE:  A Level 1 Class will be held August 4\, 5\
 , and 6 at Fountain VFC\n\nClick here for a course flyer\n\nClick here fo
 r the TECHNICAL RESCUE TRAINING MATRIX
CATEGORIES:WVPST Martinsburg
LOCATION:Fountain VFC\, 10707 Knobley Rd\, Keyser\, WV\, United States
GEO:39.423481;-78.931969
X-APPLE-STRUCTURED-LOCATION;VALUE=URI;X-ADDRESS=10707 Knobley Rd\, Keyser\,
  WV\, United States;X-APPLE-RADIUS=100;X-TITLE=Fountain VFC:geo:39.423481,
 -78.931969
END:VEVENT
BEGIN:VTIMEZONE
TZID:America/New_York
X-LIC-LOCATION:America/New_York
BEGIN:DAYLIGHT
DTSTART:20170312T030000
TZOFFSETFROM:-0500
TZOFFSETTO:-0400
TZNAME:EDT
END:DAYLIGHT
END:VTIMEZONE
END:VCALENDAR