BEGIN:VCALENDAR
VERSION:2.0
PRODID:-//wp-events-plugin.com//7.2.3.1//EN
TZID:America/New_York
X-WR-TIMEZONE:America/New_York
BEGIN:VEVENT
UID:101@wvpst.org
DTSTART;TZID=America/New_York:20170804T180000
DTEND;TZID=America/New_York:20170804T220000
DTSTAMP:20170729T234642Z
URL:https://wvpst.org/events/water-rescue-level-1/
SUMMARY:Water Rescue Level 1
DESCRIPTION:Water Rescue Level 1\n\nA 24-hour Swift Water and Surface Water
  Rescue Level 1 class will be hosted by Fountain VFC on August 4\, 5\, &am
 p\; 6 2017.  The class meets Fri 8/4\, 6 to 10 pm\; Sat &amp\; Sun 8/5 
 &amp\; 6\, 8 am to 6 pm.  Ed Sankbeil is the instructor.  Prerequisites:
   Rescue Core Prerequisites\, NFPA 1006 Chapter 5 OR WVU-FSE Rescue Core 
 Course\, and Rope Rescue Level 1\, NFPA 1006 Chapter 6 OR Rope Rescue Low 
 Angle Operations.  Participants must also pass a swim test. Participants 
 must provide verification of prerequisite training.  Participants must pr
 ovide a swift water helmet and PFD.  Wetsuit is optional.  Course fee is
  $45.  Book can be rented for $10 or purchased for $30.\n\nNOTE:  A Leve
 l 2 Water Rescue Class will be held August 12 &amp\; 13 at Fountain VFC\n\
 nClick here for a course flyer
CATEGORIES:WVPST Martinsburg
LOCATION:Fountain VFC\, 10707 Knobley Rd\, Keyser\, WV\, United States
GEO:39.423481;-78.931969
X-APPLE-STRUCTURED-LOCATION;VALUE=URI;X-ADDRESS=10707 Knobley Rd\, Keyser\,
  WV\, United States;X-APPLE-RADIUS=100;X-TITLE=Fountain VFC:geo:39.423481,
 -78.931969
END:VEVENT
BEGIN:VTIMEZONE
TZID:America/New_York
X-LIC-LOCATION:America/New_York
BEGIN:DAYLIGHT
DTSTART:20170312T030000
TZOFFSETFROM:-0500
TZOFFSETTO:-0400
TZNAME:EDT
END:DAYLIGHT
END:VTIMEZONE
END:VCALENDAR