BEGIN:VCALENDAR
VERSION:2.0
PRODID:-//wp-events-plugin.com//7.2.3.1//EN
TZID:America/New_York
X-WR-TIMEZONE:America/New_York
BEGIN:VEVENT
UID:2534@wvpst.org
DTSTART;TZID=America/New_York:20230727T180000
DTEND;TZID=America/New_York:20230727T220000
DTSTAMP:20230720T184728Z
URL:https://wvpst.org/events/water-rescue-awareness-operations-3/
SUMMARY:Water Rescue Awareness & Operations
DESCRIPTION:WVPST is pleased to announce a Water Rescue Awareness &amp\; Op
 erations class.\n\nWhen: July 27-30\, 2023\n\nTime: 1800-2200 on 7/27 &amp
 \; 7/28\; 0830-1930 on 7/29 &amp\; 7/30\n\nWhere: Ansted VFD (96 Church St
 .\, Ansted\, WV 25812))\n\nInstructor: CW Sigman\, Mike Gray\, and Tracey 
 Gray\n\n***Swim Test will be at 1800 on Thursday evening at Oak Hill Pool 
 (420 Jones Ave.\, Oak Hill\, WV 25901) with the Awareness portion followin
 g at Ansted VFD.*** \n\nWater Rescue Awareness Description: This 2-hour cl
 ass meets the Awareness Level requirements of NFPA 1006 Chapters 16\, 17\,
  and 22. The textbook is “Water Rescue: Principles and Practice to NFPA 
 1006 and 1670: Surface\, Swiftwater\, Dive\, Ice\, Surf\, and Flood”\, S
 econd Edition. The same textbook is used for Water Rescue Awareness\, Oper
 ations\, and Technician.\n\nWater Rescue Operations Description: This 30-h
 our class meets the Operations Level requirements of NFPA 1006 Chapters 16
 \, 17\, and 22. The textbook is “Water Rescue: Principles and Practice t
 o NFPA 1006 and 1670: Surface\, Swiftwater\, Dive\, Ice\, Surf\, and Flood
 ”\, Second Edition. The same textbook is used for Water Rescue Awareness
 \, Operations\, and Technician. Prerequisites include: Must pass swim test
  and Water Rescue Awareness OR WVPST Rescue Core Prerequisites\, AND Rope 
 Rescue Level 1 OR Rope Rescue Operations\n\nPRE-REGISTRATION REQUIRED!! \n
 \n To Register: Follow the guidelines in the attached document using the 
 course number in this posting. WVPST is adopting a new registration platfo
 rm that we believe will be more user-friendly. Should you have any issues\
 , please contact Eva Godbey at eva.godbey@k12.wv.us. \n\n Link: www.psta
 chio.wvnet.edu (If link doesn't work\, use Google Chrome and search PSTach
 io.wvnet.edu)\n\nClass Number: 24-050-03 WVPST Charleston\n\nIf you have a
 ny questions or issues registering\, please contact Eva Godbey at eva.god
 bey@k12.wv.us\n\n
CATEGORIES:WVPST Charleston
LOCATION:\, \, 
X-APPLE-STRUCTURED-LOCATION;VALUE=URI;X-ADDRESS=\, ;X-APPLE-RADIUS=100;X-TI
 TLE=:geo:0,0
END:VEVENT
BEGIN:VTIMEZONE
TZID:America/New_York
X-LIC-LOCATION:America/New_York
BEGIN:DAYLIGHT
DTSTART:20230312T030000
TZOFFSETFROM:-0500
TZOFFSETTO:-0400
TZNAME:EDT
END:DAYLIGHT
END:VTIMEZONE
END:VCALENDAR