BEGIN:VCALENDAR
VERSION:2.0
PRODID:-//wp-events-plugin.com//7.2.3.1//EN
TZID:America/New_York
X-WR-TIMEZONE:America/New_York
BEGIN:VEVENT
UID:1300@wvpst.org
DTSTART;TZID=America/New_York:20200307T083000
DTEND;TZID=America/New_York:20200307T163000
DTSTAMP:20200119T172029Z
URL:https://wvpst.org/events/vehicle-rescue-technician/
SUMMARY:Vehicle Rescue Technician
DESCRIPTION:Vehicle Rescue Technician\n\nA 16-hour Vehicle Rescue Technicia
 n class will be held at South Berkeley VFC on Saturdays\, March 7 &amp\; 1
 4\, 2020 from 8:30 to 4:30 both days.  (This class was originally schedul
 ed for March 7 &amp\; 8.)  David Hess is the Instructor. Class fee is $35
 .  Book is $70.  This book is also used in Vehicle Rescue Awareness and 
 Operations.  The class meets NFPA 1006\, Chapter 8\, 2017 Ed. Prerequisit
 e:  Vehicle Rescue Operations OR Vehicle and Machinery Rescue Level 1.  
 Participants must provide verification of prerequisite training.\n\nClick 
 here for a Course Flyer\n\nNOTE: Vehicle Rescue Awareness will be held at 
 South Berkeley VFC on Feb 6\, and Vehicle Rescue Operations will be held a
 t South Berkeley VFC on Feb 9 &amp\; 16.
CATEGORIES:WVPST Martinsburg
LOCATION:South Berkeley VFC\, 7556 Winchester Avenue\, Inwood\, WV\, United
  States
GEO:39.3634289;-78.037889
X-APPLE-STRUCTURED-LOCATION;VALUE=URI;X-ADDRESS=7556 Winchester Avenue\, In
 wood\, WV\, United States;X-APPLE-RADIUS=100;X-TITLE=South Berkeley VFC:ge
 o:39.3634289,-78.037889
END:VEVENT
BEGIN:VTIMEZONE
TZID:America/New_York
X-LIC-LOCATION:America/New_York
BEGIN:STANDARD
DTSTART:20191103T010000
TZOFFSETFROM:-0400
TZOFFSETTO:-0500
TZNAME:EST
END:STANDARD
END:VTIMEZONE
END:VCALENDAR