BEGIN:VCALENDAR
VERSION:2.0
PRODID:-//wp-events-plugin.com//7.2.3.1//EN
TZID:America/New_York
X-WR-TIMEZONE:America/New_York
BEGIN:VEVENT
UID:2658@wvpst.org
DTSTART;TZID=America/New_York:20240224T080000
DTEND;TZID=America/New_York:20240224T160000
DTSTAMP:20231211T164814Z
URL:https://wvpst.org/events/vehicle-rescue-technician-passenger-3/
SUMMARY:Vehicle Rescue Technician - Passenger
DESCRIPTION:A Vehicle Rescue Technician - Passenger class will be held at M
 iddleway VFD. Please see the attached flyer for more information.\n\nDates
 : Saturday and Sunday February 24\, 25 2024. Class meets NFPA 1006 Ch. 8\,
  2021 ed.\n\nTimes will be 8am-4pm.\n\nInstructor: Jeremy Taylor.\n\nClass
  Fee: $45.00\nBook Fee: $85.00\nAll Participants are required to have a bo
 ok.\n\nStudents must bring appropriate PPE for vehicle extrication to incl
 ude helmet\, gloves\, eye protection\, and appropriate foot wear.\n\nPre-R
 equisites: Vehicle Rescue Operations\, Vehicle Rescue Operations-Passenger
 \, or Vehicle and Machinery Operations\n\nPre-registration is required. \
 n\nVehicle Rescue Technician Flyer Middleway\n\n&nbsp\;\n\n&nbsp\;\n\n&nbs
 p\;
CATEGORIES:WVPST Martinsburg
LOCATION:Middleway VFC\, 110 Dark Hill Road\, Kearneysville\, WV\, United S
 tates
GEO:39.2942416;-77.98039219999998
X-APPLE-STRUCTURED-LOCATION;VALUE=URI;X-ADDRESS=110 Dark Hill Road\, Kearne
 ysville\, WV\, United States;X-APPLE-RADIUS=100;X-TITLE=Middleway VFC:geo:
 39.2942416,-77.98039219999998
END:VEVENT
BEGIN:VTIMEZONE
TZID:America/New_York
X-LIC-LOCATION:America/New_York
BEGIN:STANDARD
DTSTART:20231105T010000
TZOFFSETFROM:-0400
TZOFFSETTO:-0500
TZNAME:EST
END:STANDARD
END:VTIMEZONE
END:VCALENDAR