BEGIN:VCALENDAR
VERSION:2.0
PRODID:-//wp-events-plugin.com//7.2.3.1//EN
TZID:America/New_York
X-WR-TIMEZONE:America/New_York
BEGIN:VEVENT
UID:2154@wvpst.org
DTSTART;TZID=America/New_York:20221001T080000
DTEND;TZID=America/New_York:20221001T170000
DTSTAMP:20220908T132146Z
URL:https://wvpst.org/events/vehicle-rescue-series-technician/
SUMMARY:Vehicle Rescue Technician
DESCRIPTION:There will be a Vehicle Technician Class October 1st and 2nd fr
 om 8am-5pm. This class will be hosted by Capon Bridge Volunteer Fire Depar
 tment and Roger Brafford will be the instructor. The class fee is $35.00 a
 nd the book cost is $80.00.\n\nTechnician  10/1\,2/2022 8am-5pm (16)\n\nP
 articipant are required to preregister for this class.\n\n&nbsp\;\n\n&nbsp
 \;\n\nVehicle-Rescue-Technician-Flyer
CATEGORIES:WVPST Martinsburg
LOCATION:Capon Bridge Volunteer Fire Department\, 2766 Northwestern Pike\, 
 Capon Bridge\, WV\, 26711\, United States
GEO:39.296722;-78.42923
X-APPLE-STRUCTURED-LOCATION;VALUE=URI;X-ADDRESS=2766 Northwestern Pike\, Ca
 pon Bridge\, WV\, 26711\, United States;X-APPLE-RADIUS=100;X-TITLE=Capon B
 ridge Volunteer Fire Department:geo:39.296722,-78.42923
END:VEVENT
BEGIN:VTIMEZONE
TZID:America/New_York
X-LIC-LOCATION:America/New_York
BEGIN:DAYLIGHT
DTSTART:20220313T030000
TZOFFSETFROM:-0500
TZOFFSETTO:-0400
TZNAME:EDT
END:DAYLIGHT
END:VTIMEZONE
END:VCALENDAR