BEGIN:VCALENDAR
VERSION:2.0
PRODID:-//wp-events-plugin.com//7.2.3.1//EN
TZID:America/New_York
X-WR-TIMEZONE:America/New_York
BEGIN:VEVENT
UID:2153@wvpst.org
DTSTART;TZID=America/New_York:20220917T080000
DTEND;TZID=America/New_York:20220917T160000
DTSTAMP:20220908T132056Z
URL:https://wvpst.org/events/vehicle-rescue-series-operations-3/
SUMMARY:Vehicle Rescue Operations
DESCRIPTION:There will be a Vehicle Operations Class September 17th and 18t
 h from 8am-5pm. This class will be hosted by Capon Bridge Volunteer Fire D
 epartment and Roger Brafford will be the instructor. The class fee is $35.
 00 and the book cost is $80.00\n\nOperations  10/17\,18/2022 8am-5pm (16)
 \n\nParticipant are required to preregister for this class.\n\n&nbsp\;\n\n
 &nbsp\;\n\nVehicle-Rescue-Operations-Flyer-1
CATEGORIES:WVPST Martinsburg
LOCATION:Capon Bridge Volunteer Fire Department\, 2766 Northwestern Pike\, 
 Capon Bridge\, WV\, 26711\, United States
GEO:39.296722;-78.42923
X-APPLE-STRUCTURED-LOCATION;VALUE=URI;X-ADDRESS=2766 Northwestern Pike\, Ca
 pon Bridge\, WV\, 26711\, United States;X-APPLE-RADIUS=100;X-TITLE=Capon B
 ridge Volunteer Fire Department:geo:39.296722,-78.42923
END:VEVENT
BEGIN:VTIMEZONE
TZID:America/New_York
X-LIC-LOCATION:America/New_York
BEGIN:DAYLIGHT
DTSTART:20220313T030000
TZOFFSETFROM:-0500
TZOFFSETTO:-0400
TZNAME:EDT
END:DAYLIGHT
END:VTIMEZONE
END:VCALENDAR