BEGIN:VCALENDAR
VERSION:2.0
PRODID:-//wp-events-plugin.com//7.2.3.1//EN
TZID:America/New_York
X-WR-TIMEZONE:America/New_York
BEGIN:VEVENT
UID:2152@wvpst.org
DTSTART;TZID=America/New_York:20220916T180000
DTEND;TZID=America/New_York:20220916T180000
DTSTAMP:20220908T132024Z
URL:https://wvpst.org/events/vehicle-rescue-series-awareness-2/
SUMMARY:Vehicle Rescue Awareness
DESCRIPTION:There will be a Vehicle Awareness Class September 16th from 6-1
 0pm. This class will be hosted by Capon Bridge Vol. Fire Department and Ro
 ger Brafford will be the instructor. The class cost is $35.00 and book fee
  is $80.00.\n\nAwareness 09/16/2022 6-10 (4)\n\nParticipant are required t
 o preregister for this class.\n\n&nbsp\;\n\nVehicle-Rescue-Awareness-Flyer
  (1)\n\n&nbsp\;\n\n&nbsp\;\n\n&nbsp\;
CATEGORIES:WVPST Martinsburg
LOCATION:Capon Bridge Volunteer Fire Department\, 2766 Northwestern Pike\, 
 Capon Bridge\, WV\, 26711\, United States
GEO:39.296722;-78.42923
X-APPLE-STRUCTURED-LOCATION;VALUE=URI;X-ADDRESS=2766 Northwestern Pike\, Ca
 pon Bridge\, WV\, 26711\, United States;X-APPLE-RADIUS=100;X-TITLE=Capon B
 ridge Volunteer Fire Department:geo:39.296722,-78.42923
END:VEVENT
BEGIN:VTIMEZONE
TZID:America/New_York
X-LIC-LOCATION:America/New_York
BEGIN:DAYLIGHT
DTSTART:20220313T030000
TZOFFSETFROM:-0500
TZOFFSETTO:-0400
TZNAME:EDT
END:DAYLIGHT
END:VTIMEZONE
END:VCALENDAR