BEGIN:VCALENDAR
VERSION:2.0
PRODID:-//wp-events-plugin.com//7.2.3.1//EN
TZID:America/New_York
X-WR-TIMEZONE:America/New_York
BEGIN:VEVENT
UID:1299@wvpst.org
DTSTART;TZID=America/New_York:20200209T083000
DTEND;TZID=America/New_York:20200209T163000
DTSTAMP:20200124T140105Z
URL:https://wvpst.org/events/vehicle-rescue-operations/
SUMMARY:Vehicle Rescue Operations
DESCRIPTION:Vehicle Rescue Operations\n\nA 16-hour Vehicle Rescue Operation
 s class will be held at South Berkeley VFC on Sundays\, February 9 &amp\; 
 16 from 8:30 to 4:30 both days.  (This class was originally scheduled for
  Feb 8 &amp\; 9.) David Hess is the Instructor. Class fee is $35.  Book i
 s $70.  This book is also used in Vehicle Rescue Awareness and Technician
  classes.  The class meets NFPA 1006\, Chapter 8\, 2017 Ed. Prerequisite:
   Vehicle Rescue Awareness OR WVPST Rescue Core Prerequisites\, NFPA 1006
  Chapter 5.  Participants must provide verification of prerequisite train
 ing.\n\nClick here for a Course Flyer\n\nNOTE: Vehicle Rescue Awareness wi
 ll be held at South Berkeley VFC on Feb 6\, and Vehicle Rescue Technician 
 will be held March 7 &amp\; 14.\n\n&nbsp\;
CATEGORIES:WVPST Martinsburg
LOCATION:South Berkeley VFC\, 7556 Winchester Avenue\, Inwood\, WV\, United
  States
GEO:39.3634289;-78.037889
X-APPLE-STRUCTURED-LOCATION;VALUE=URI;X-ADDRESS=7556 Winchester Avenue\, In
 wood\, WV\, United States;X-APPLE-RADIUS=100;X-TITLE=South Berkeley VFC:ge
 o:39.3634289,-78.037889
END:VEVENT
BEGIN:VTIMEZONE
TZID:America/New_York
X-LIC-LOCATION:America/New_York
BEGIN:STANDARD
DTSTART:20191103T010000
TZOFFSETFROM:-0400
TZOFFSETTO:-0500
TZNAME:EST
END:STANDARD
END:VTIMEZONE
END:VCALENDAR