BEGIN:VCALENDAR
VERSION:2.0
PRODID:-//wp-events-plugin.com//7.2.3.1//EN
TZID:America/New_York
X-WR-TIMEZONE:America/New_York
BEGIN:VEVENT
UID:2120@wvpst.org
DTSTART;TZID=America/New_York:20220709T090000
DTEND;TZID=America/New_York:20220709T170000
DTSTAMP:20220630T153121Z
URL:https://wvpst.org/events/vehicle-rescue-operations-10/
SUMMARY:Vehicle Rescue Operations
DESCRIPTION:WVPST\, in partnership with Wood County Fire School\, is please
 d to announce a Vehicle Rescue Operations course for July 9-10\, 2022 from
  9-5 each day.  The current schedule with registration numbers are listed
  below.\n\nVehicle Rescue Operations: This 16-hour class meets NFPA 1006 C
 h.8\, 2017 edition for Vehicle Rescue Operations. Prerequisite training is
  Vehicle Rescue Awareness OR Public Service Training Rescue Core Prerequis
 ites.\n\nPPE Needed: Work pants\, long sleeve shirt\, steel toed boots\, 
 eye protection\, ear protection\, fire helmet or hard hat or substitute bu
 nker gear with eye protection\n\nPre-requisites:  Must have Vehicle Rescu
 e Awareness or Rescue Core Prerequisites.\n\nTuition: $20/person\n\nLocati
 on: Wood County Training Center (2311 Camden Ave.\, Parkersburg\, WV 26101
 )\n\nDate: July 9-10\, 2022\n\nTime: 0900-1900 daily\n\nInstructor: Jeremy
  Taylor and Jay Parsons with Atlantic Emergency Solutions\n\nTo Register: 
 Follow the guidelines in the attached document using the course number in 
 this posting. WVPST is adopting a new registration platform that we believ
 e will be more user-friendly. Should you have any issues\, please contact 
 Eva Godbey at eva.godbey@k12.wv.us. \n\nLink: www.pstachio.wvnet.edu (If 
 link doesn't work\, use Google Chrome and search PSTachio.wvnet.edu)\n\nCo
 urse ID: 23-005-05-05 WVPST Parkersburg\n\nIf you have any questions or is
 sues registering\, please contact Eva Godbey at eva.godbey@k12.wv.us\n\nP
 ST Class Registrations\n\nGo to:  https://pstachio.wvnet.edu/\n\nIf you 
 don’t have an account\, click Register.\n\n 	Under location\, select the
  correct region of the hosted class.\n 	Parkersburg: Calhoun\, Gilmer\, Ja
 ckson\, Mason\, Putnam\, Roane\, Wirt\, Wood\n 	Charleston: Boone\, Cabell
 \, Clay\, Kanawha\, Lincoln\, Logan\, Mingo\, Wayne\n 	Complete all of the
  information.\n\n 	WVOEMS # is not applicable\, if you do not have a WVOEM
 S account\n\n\n 	Verify account through the email you receive from PSTachi
 o.\n\n 	Once you have verified your account\, the respective PST Regional 
 Coordinator and Specialist will receive a notification to approve your acc
 ount.\n\n\n 	After your account has been approved\, you need to log in usi
 ng the email address and password you set up.\n 	Click Registration\n 	Ent
 er the course number provided to you for the respective course.\n\n 	Parke
 rsburg 21-XXX-05\n 	Charleston 21-XXX-03\n\n\n 	Press Enter after the cour
 se number is entered\n 	Click Register\n\n 	You should be rerouted to your
  Transcript.\n\n\n\n**If you have taken PST courses but have never created
  an account or try to register and are prompted with an account already ex
 ists for that username\, contact your local PST for a password reset.\n\n*
 *Using the email address and password will allow you to review your transc
 ript for all PST classes you have taken since July 2016\, provided you hav
 e used the same email address for each region.  If you have taken a class
  and received a certificate\, but it doesn’t show up on your transcript\
 , contact the PST office for the area you took the course.\n\n**If you are
  unable to log in\, please contact Eva Godbey for a password reset.  Eva
 .godbey@k12.wv.us or (304) 766-0011 ext. 22.
CATEGORIES:WVPST Parkersburg
LOCATION:Parkersburg Fire Station 6\, 2311 Camden Ave.\, Parkersburg\, WV\,
  25101\, United States
GEO:39.2551835;-81.54927780000003
X-APPLE-STRUCTURED-LOCATION;VALUE=URI;X-ADDRESS=2311 Camden Ave.\, Parkersb
 urg\, WV\, 25101\, United States;X-APPLE-RADIUS=100;X-TITLE=Parkersburg Fi
 re Station 6:geo:39.2551835,-81.54927780000003
END:VEVENT
BEGIN:VTIMEZONE
TZID:America/New_York
X-LIC-LOCATION:America/New_York
BEGIN:DAYLIGHT
DTSTART:20220313T030000
TZOFFSETFROM:-0500
TZOFFSETTO:-0400
TZNAME:EDT
END:DAYLIGHT
END:VTIMEZONE
END:VCALENDAR