BEGIN:VCALENDAR
VERSION:2.0
PRODID:-//wp-events-plugin.com//7.2.3.1//EN
TZID:America/New_York
X-WR-TIMEZONE:America/New_York
BEGIN:VEVENT
UID:2141@wvpst.org
DTSTART;TZID=America/New_York:20220729T180000
DTEND;TZID=America/New_York:20220729T220000
DTSTAMP:20220714T193019Z
URL:https://wvpst.org/events/vehicle-rescue-awareness-vehicle-rescue-opera
 tions/
SUMMARY:Vehicle Rescue Awareness/Vehicle Rescue Operations
DESCRIPTION:WVPST is pleased to announce a Vehicle Rescue Awareness and Veh
 icle Rescue Operations class.\n\nVehicle Rescue Awareness: This 4-hour cla
 ss meets NFPA 1006 Ch.8\, 2017 edition for Vehicle Rescue Awareness. There
  is no required prerequisite training.\n\nVehicle Rescue Operations: This 
 16-hour class meets NFPA 1006 Ch.8\, 2017 edition for Vehicle Rescue Opera
 tions. Prerequisite training is Vehicle Rescue Awareness OR Public Service
  Training Rescue Core Prerequisites.\n\nPPE Needed: Work pants\, long sle
 eve shirt\, steel toed boots\, eye protection\, ear protection\, fire helm
 et or hard hat or substitute bunker gear with eye protection\n\nTuition: $
 35/person for 1 section or $45/person for both\n\nLocation: Lakewood VFD (
 2627 Shady Side Rd.\, St. Albans\, WV 25177)\n\nDate: July 29\, 30\, and 3
 1\, 2022\n\nTime: 1800-2200 on July 29\; 0800-1700 on July 30 and 31\n\nIn
 structor: Steven Cavender\n\nTo Register: Follow the guidelines in the att
 ached document using the course number in this posting. WVPST is adopting 
 a new registration platform that we believe will be more user-friendly. Sh
 ould you have any issues\, please contact Eva Godbey at eva.godbey@k12.wv.
 us. \n\nLink: www.pstachio.wvnet.edu (If link doesn't work\, use Google C
 hrome and search PSTachio.wvnet.edu)\n\nCourse IDs: \n\nAwareness:  23-0
 22-03 WVPST Charleston\n\nOperations:  23-023-03 WVPST Charleston\n\nIf y
 ou have any questions or issues registering\, please contact Eva Godbey a
 t eva.godbey@k12.wv.us\n\nPST Class Registrations\n\nGo to:  https://pst
 achio.wvnet.edu/\n\nIf you don’t have an account\, click Register.\n\n 	
 Under location\, select the correct region of the hosted class.\n 	Parkers
 burg: Calhoun\, Gilmer\, Jackson\, Mason\, Putnam\, Roane\, Wirt\, Wood\n 
 	Charleston: Boone\, Cabell\, Clay\, Kanawha\, Lincoln\, Logan\, Mingo\, W
 ayne\n 	Complete all of the information.\n\n 	WVOEMS # is not applicable\,
  if you do not have a WVOEMS account\n\n\n 	Verify account through the ema
 il you receive from PSTachio.\n\n 	Once you have verified your account\, t
 he respective PST Regional Coordinator and Specialist will receive a notif
 ication to approve your account.\n\n\n 	After your account has been approv
 ed\, you need to log in using the email address and password you set up.\n
  	Click Registration\n 	Enter the course number provided to you for the re
 spective course.\n\n 	Parkersburg 21-XXX-05\n 	Charleston 21-XXX-03\n\n\n 
 	Press Enter after the course number is entered\n 	Click Register\n\n 	You
  should be rerouted to your Transcript.\n\n\n\n**If you have taken PST cou
 rses but have never created an account or try to register and are prompted
  with an account already exists for that username\, contact your local PST
  for a password reset.\n\n**Using the email address and password will allo
 w you to review your transcript for all PST classes you have taken since J
 uly 2016\, provided you have used the same email address for each region.
   If you have taken a class and received a certificate\, but it doesn’t
  show up on your transcript\, contact the PST office for the area you took
  the course.\n\n**If you are unable to log in\, please contact Eva Godbey 
 for a password reset.  Eva.godbey@k12.wv.us or (304) 766-0011 ext. 22.
CATEGORIES:WVPST Charleston
LOCATION:Lakewood VFD\, 2627 Shady Side Rd.\, St. Albans\, WV\, 25177\, Uni
 ted States
GEO:38.365867;-81.848519
X-APPLE-STRUCTURED-LOCATION;VALUE=URI;X-ADDRESS=2627 Shady Side Rd.\, St. A
 lbans\, WV\, 25177\, United States;X-APPLE-RADIUS=100;X-TITLE=Lakewood VFD
 :geo:38.365867,-81.848519
END:VEVENT
BEGIN:VTIMEZONE
TZID:America/New_York
X-LIC-LOCATION:America/New_York
BEGIN:DAYLIGHT
DTSTART:20220313T030000
TZOFFSETFROM:-0500
TZOFFSETTO:-0400
TZNAME:EDT
END:DAYLIGHT
END:VTIMEZONE
END:VCALENDAR