BEGIN:VCALENDAR
VERSION:2.0
PRODID:-//wp-events-plugin.com//7.2.3.1//EN
TZID:America/New_York
X-WR-TIMEZONE:America/New_York
BEGIN:VEVENT
UID:2657@wvpst.org
DTSTART;TZID=America/New_York:20240216T080000
DTEND;TZID=America/New_York:20240216T180000
DTSTAMP:20231211T164351Z
URL:https://wvpst.org/events/vehicle-rescue-awareness-and-operations-passe
 nger-3/
SUMMARY:Vehicle Rescue Awareness and Operations - Passenger
DESCRIPTION:A Vehicle Rescue Awareness and Operations - Passenger class wil
 l be held at Middleway VFD. Please see the attached flyer for more informa
 tion.\n\nDates: Friday\, Saturday and  Sunday February 16\, 17\, and 18 \
 , 2024. Class meets NFPA 1006 Ch. 8\, 2021 ed.\n\nTimes will be 6pm-10pm F
 riday and 8am-4pm Saturday and Sunday.\n\nInstructor: Jeremy Taylor.\n\nCl
 ass Fee: $55.00\nBook Fee: $85.00\nAll Participants are required to have a
  book.\n\nStudents must bring appropriate PPE for vehicle extrication to i
 nclude helmet\, gloves\, eye protection\, and appropriate foot wear.\n\nPr
 e-registration is required. \n\n&nbsp\;\n\nVehicle-A/O -Flyer Middleway\n
 \n&nbsp\;\n\n&nbsp\;
CATEGORIES:WVPST Martinsburg
LOCATION:Middleway VFC\, 110 Dark Hill Road\, Kearneysville\, WV\, United S
 tates
GEO:39.2942416;-77.98039219999998
X-APPLE-STRUCTURED-LOCATION;VALUE=URI;X-ADDRESS=110 Dark Hill Road\, Kearne
 ysville\, WV\, United States;X-APPLE-RADIUS=100;X-TITLE=Middleway VFC:geo:
 39.2942416,-77.98039219999998
END:VEVENT
BEGIN:VTIMEZONE
TZID:America/New_York
X-LIC-LOCATION:America/New_York
BEGIN:STANDARD
DTSTART:20231105T010000
TZOFFSETFROM:-0400
TZOFFSETTO:-0500
TZNAME:EST
END:STANDARD
END:VTIMEZONE
END:VCALENDAR