BEGIN:VCALENDAR
VERSION:2.0
PRODID:-//wp-events-plugin.com//7.2.3.1//EN
TZID:America/New_York
X-WR-TIMEZONE:America/New_York
BEGIN:VEVENT
UID:962@wvpst.org
DTSTART;TZID=America/New_York:20190727T080000
DTEND;TZID=America/New_York:20190727T170000
DTSTAMP:20190711T191115Z
URL:https://wvpst.org/events/vehicle-and-machinery-rescue-level-1-4/
SUMMARY:Vehicle and Machinery Rescue Level 1
DESCRIPTION:VEHICLE &amp\; MACHINERY RESCUE LEVEL 1\n\nThis 16-hour course 
 is being conducted at Whitmer VFD\, Whitmer\, West Virginia (Randolph Coun
 ty). Course dates are July 27 and 28\, 2019 from 8:00 am – 5:00 pm. Mike
  Hart is the instructor.\n\nREGISTER: Online below\n\nPRE-REQUISITES: Resc
 ue Core Prerequisites NFPA 1006\, Chapter 5\; WVUFSE Rescue Core Course\; 
 or Vehicle and Machinery Search and Rescue Operations\n\nTUITION:  $35 pe
 r student. Fees may be paid by cash\, money order\, or company/department 
 checks made payable to "MSESC."\n\nBOOK: “Vehicle Extrication I &amp\; I
 I: Principles and Practice” will be loaned during the class for a fee of
  $10. Purchase price of the book is $90.00.
CATEGORIES:WVPST Clarksburg
LOCATION:Whitmer Volunteer Fire Department\, 586 Little Italy Road\, Harman
 \, WV\, 26270\, United States
GEO:38.7965696;-79.54739319999999
X-APPLE-STRUCTURED-LOCATION;VALUE=URI;X-ADDRESS=586 Little Italy Road\, Har
 man\, WV\, 26270\, United States;X-APPLE-RADIUS=100;X-TITLE=Whitmer Volunt
 eer Fire Department:geo:38.7965696,-79.54739319999999
END:VEVENT
BEGIN:VTIMEZONE
TZID:America/New_York
X-LIC-LOCATION:America/New_York
BEGIN:DAYLIGHT
DTSTART:20190310T030000
TZOFFSETFROM:-0500
TZOFFSETTO:-0400
TZNAME:EDT
END:DAYLIGHT
END:VTIMEZONE
END:VCALENDAR