BEGIN:VCALENDAR
VERSION:2.0
PRODID:-//wp-events-plugin.com//7.2.3.1//EN
TZID:America/New_York
X-WR-TIMEZONE:America/New_York
BEGIN:VEVENT
UID:421@wvpst.org
DTSTART;TZID=America/New_York:20180324T090000
DTEND;TZID=America/New_York:20180324T140000
DTSTAMP:20180221T183751Z
URL:https://wvpst.org/events/traffic-incident-management-tims/
SUMMARY:Traffic Incident Management (TIMS)
DESCRIPTION:Location:      Greenwood VFD\n\nDates:          
    March 24\, 2018\, 9am-2pm\n\nInstructor (s): Mike Daley\n\nFee:   F
 REE \n\nName:  __________________________________________________________
 ___________\n\nDate of Birth:  __________________________________________
 _____________________\n\nAddress: ________________________________________
 ____________________________\n\nCity/State:  ____________________________
 _________________ Postal Code: __________\n\nPhone Number: _______________
 _ Email Address: _________________________________\n\nAffiliation: _______
 ___________________________________________________________\n\nPlease send
  above information to Eva Godbey at eva.godbey@k12.wv.us
CATEGORIES:WVPST Parkersburg
LOCATION:Greenwood VFD\, 391 Long Run Rd.\, Greenwood\, WV\, 26415\, United
  States
GEO:39.28345119999999;-80.87206100000003
X-APPLE-STRUCTURED-LOCATION;VALUE=URI;X-ADDRESS=391 Long Run Rd.\, Greenwoo
 d\, WV\, 26415\, United States;X-APPLE-RADIUS=100;X-TITLE=Greenwood VFD:ge
 o:39.28345119999999,-80.87206100000003
END:VEVENT
BEGIN:VTIMEZONE
TZID:America/New_York
X-LIC-LOCATION:America/New_York
BEGIN:DAYLIGHT
DTSTART:20180311T030000
TZOFFSETFROM:-0500
TZOFFSETTO:-0400
TZNAME:EDT
END:DAYLIGHT
END:VTIMEZONE
END:VCALENDAR