BEGIN:VCALENDAR
VERSION:2.0
PRODID:-//wp-events-plugin.com//7.2.3.1//EN
TZID:America/New_York
X-WR-TIMEZONE:America/New_York
BEGIN:VEVENT
UID:458@wvpst.org
DTSTART;TZID=America/New_York:20180419T180000
DTEND;TZID=America/New_York:20180419T210000
DTSTAMP:20180316T200710Z
URL:https://wvpst.org/events/swim-test-2/
SUMMARY:Swim Test
DESCRIPTION:Swim Test\n\nThe swim test required for entry into water rescue
  classes will be administered at the Hardy County Wellness Center in Moore
 field on Thursday\, April 19\, 2018 at 6:00 pm.  Preregistration is not r
 equired for the swim test.
CATEGORIES:WVPST Martinsburg
LOCATION:Wellness Center\, 411 Spring Ave\, Moorefield\, WV\, 26836\, Unite
 d States
GEO:39.0698966;-78.9605373
X-APPLE-STRUCTURED-LOCATION;VALUE=URI;X-ADDRESS=411 Spring Ave\, Moorefield
 \, WV\, 26836\, United States;X-APPLE-RADIUS=100;X-TITLE=Wellness Center:g
 eo:39.0698966,-78.9605373
END:VEVENT
BEGIN:VTIMEZONE
TZID:America/New_York
X-LIC-LOCATION:America/New_York
BEGIN:DAYLIGHT
DTSTART:20180311T030000
TZOFFSETFROM:-0500
TZOFFSETTO:-0400
TZNAME:EDT
END:DAYLIGHT
END:VTIMEZONE
END:VCALENDAR