BEGIN:VCALENDAR
VERSION:2.0
PRODID:-//wp-events-plugin.com//7.2.3.1//EN
TZID:America/New_York
X-WR-TIMEZONE:America/New_York
BEGIN:VEVENT
UID:482@wvpst.org
DTSTART;TZID=America/New_York:20180522T183000
DTEND;TZID=America/New_York:20180522T200000
DTSTAMP:20180416T140544Z
URL:https://wvpst.org/events/suicidal-ideation-and-mental-health-crisis-fo
 r-first-responders/
SUMMARY:Suicidal Ideation and Mental Health Crisis for First Responders
DESCRIPTION:Suicidal Ideation and Mental Health Crisis for First Responders
   \n\nThis course was developed by Prevent Suicide WV.  It will address
  the prevalence of suicide in the general population and first responders.
   This is an opportunity to develop tools to get people appropriate help 
 to prevent reoccurrence of mental health issues and psychological crisis. 
  The class will be taught by Rob Glover from Prevent Suicide WV.  WVOEMS
  has approved this for 1.5 hours of EMS CE.  Preregistration is not requi
 red.
CATEGORIES:WVPST Martinsburg
LOCATION:Upper Tract VFD Training Center\, 11596 Petersburg Pike\, Upper Tr
 act\, WV\, 26866\, United States
GEO:38.7911349;-79.28252989999998
X-APPLE-STRUCTURED-LOCATION;VALUE=URI;X-ADDRESS=11596 Petersburg Pike\, Upp
 er Tract\, WV\, 26866\, United States;X-APPLE-RADIUS=100;X-TITLE=Upper Tra
 ct VFD Training Center:geo:38.7911349,-79.28252989999998
END:VEVENT
BEGIN:VTIMEZONE
TZID:America/New_York
X-LIC-LOCATION:America/New_York
BEGIN:DAYLIGHT
DTSTART:20180311T030000
TZOFFSETFROM:-0500
TZOFFSETTO:-0400
TZNAME:EDT
END:DAYLIGHT
END:VTIMEZONE
END:VCALENDAR