BEGIN:VCALENDAR
VERSION:2.0
PRODID:-//wp-events-plugin.com//7.2.3.1//EN
TZID:America/New_York
X-WR-TIMEZONE:America/New_York
BEGIN:VEVENT
UID:960@wvpst.org
DTSTART;TZID=America/New_York:20190921T080000
DTEND;TZID=America/New_York:20190921T160000
DTSTAMP:20190619T160339Z
URL:https://wvpst.org/events/sprinkler-standpipes/
SUMMARY:SPRINKLER & STANDPIPES
DESCRIPTION:Sprinkler and Standpipe Systems (16 hours)\nThis is a combinati
 on classroom and practical skills training in basic sprinkler system and s
 tandpipe operations designed for the new firefighter or for those who wish
  to refresh their skills. Topics will include general knowledge and operat
 ion of sprinkler and standpipe systems and supplying water to fire departm
 ent connections and operation of hand lines from standpipe outlets.\nInstr
 uctor:  Jim Reynolds (Assistant Chief\, Blennerhassett VFD)\n\nStudents s
 hould have FF1 and bring turn out gear\, SCBA\, and a spare cylinder.\n\nC
 ost is $20/person.\n\nPre-Registration Deadline is September 13\, 2019.
CATEGORIES:WVPST Parkersburg
LOCATION:Parkersburg Fire Station 6\, 2311 Camden Ave.\, Parkersburg\, WV\,
  25101\, United States
GEO:39.2551835;-81.54927780000003
X-APPLE-STRUCTURED-LOCATION;VALUE=URI;X-ADDRESS=2311 Camden Ave.\, Parkersb
 urg\, WV\, 25101\, United States;X-APPLE-RADIUS=100;X-TITLE=Parkersburg Fi
 re Station 6:geo:39.2551835,-81.54927780000003
END:VEVENT
BEGIN:VTIMEZONE
TZID:America/New_York
X-LIC-LOCATION:America/New_York
BEGIN:DAYLIGHT
DTSTART:20190310T030000
TZOFFSETFROM:-0500
TZOFFSETTO:-0400
TZNAME:EDT
END:DAYLIGHT
END:VTIMEZONE
END:VCALENDAR