BEGIN:VCALENDAR
VERSION:2.0
PRODID:-//wp-events-plugin.com//7.2.3.1//EN
TZID:America/New_York
X-WR-TIMEZONE:America/New_York
BEGIN:VEVENT
UID:2567@wvpst.org
DTSTART;TZID=America/New_York:20230823T190000
DTEND;TZID=America/New_York:20230823T210000
DTSTAMP:20230816T121408Z
URL:https://wvpst.org/events/sports-medicine-evaluation-and-treatment/
SUMMARY:Sports Medicine Evaluation and Treatment
DESCRIPTION:Sports Medicine Evaluation and Treatment\nLocation:  Marshall 
 County Public Safety Building\n\nInstructor:  Michael Hughes\n\nHours:  
 2\n\nPre-Requisites:  None\n\nCost:  N/A\n\nClass Date:  August 23\, 20
 23\n\nClass Day and Time: Wednesday 7:00 pm – 9:00 pm\n\nClick this link
  to Pre-register:  https://forms.office.com/r/aK2eRBBfLc\n\n&nbsp\;
CATEGORIES:WVPST Wheeling
END:VEVENT
BEGIN:VTIMEZONE
TZID:America/New_York
X-LIC-LOCATION:America/New_York
BEGIN:DAYLIGHT
DTSTART:20230312T030000
TZOFFSETFROM:-0500
TZOFFSETTO:-0400
TZNAME:EDT
END:DAYLIGHT
END:VTIMEZONE
END:VCALENDAR