BEGIN:VCALENDAR
VERSION:2.0
PRODID:-//wp-events-plugin.com//7.2.3.1//EN
TZID:America/New_York
X-WR-TIMEZONE:America/New_York
BEGIN:VEVENT
UID:956@wvpst.org
DTSTART;TZID=America/New_York:20190713T080000
DTEND;TZID=America/New_York:20190713T160000
DTSTAMP:20190703T160858Z
URL:https://wvpst.org/events/small-crew-big-jobs/
SUMMARY:SMALL CREW - BIG JOBS!
DESCRIPTION:**PLEASE NOTE:  This class was changed from July 6-7\, 2019 to
  July 13-14\, 2019 due to scheduling issues.**\n\nDescription:  This cour
 se will help the student better understand how to perform better operation
 s with limited staffing. Part 1 will deal with ground ladders – choosing
  proper ladder for the job\, proper handling of ground ladders\, and safet
 y of using such ladders. Part 2 deals with V.E.I.S.(Vent\, Enter\, Isolate
 \, Search). Students will be introduced to VEIS basics of how to properly 
 perform V.E.I.S. when the need for such is warranted. Part 3 will deal wit
 h proper hose handling techniques with minimum staffing. Will teach studen
 ts how to properly deploy handlines\, moving handlines above and below gra
 de\, etc. Part 4 will teach students about the “water can”. This will 
 be on proper maintenance\, filling\, and use of the can. Also will include
  live fire drills using the “water can”.\n\nEquipment Needed:  Full P
 PE plus an SCBA and 2 spare bottles\n\nInstructors:  Jason Fleak – Trai
 ning Officer PFD\, Mike Bartenschlag – Lt. PFD\, Mark Stewart – Chief 
 Lubeck VFD\n\nCost is $20/person.\n\n16 HOURS\n\nPre-Registration Deadline
  is June 28\, 2019.
CATEGORIES:WVPST Parkersburg
LOCATION:Parkersburg Fire Station 6\, 2311 Camden Ave.\, Parkersburg\, WV\,
  25101\, United States
GEO:39.2551835;-81.54927780000003
X-APPLE-STRUCTURED-LOCATION;VALUE=URI;X-ADDRESS=2311 Camden Ave.\, Parkersb
 urg\, WV\, 25101\, United States;X-APPLE-RADIUS=100;X-TITLE=Parkersburg Fi
 re Station 6:geo:39.2551835,-81.54927780000003
END:VEVENT
BEGIN:VTIMEZONE
TZID:America/New_York
X-LIC-LOCATION:America/New_York
BEGIN:DAYLIGHT
DTSTART:20190310T030000
TZOFFSETFROM:-0500
TZOFFSETTO:-0400
TZNAME:EDT
END:DAYLIGHT
END:VTIMEZONE
END:VCALENDAR