BEGIN:VCALENDAR
VERSION:2.0
PRODID:-//wp-events-plugin.com//7.2.3.1//EN
TZID:America/New_York
X-WR-TIMEZONE:America/New_York
BEGIN:VEVENT
UID:2493@wvpst.org
DTSTART;TZID=America/New_York:20230729T080000
DTEND;TZID=America/New_York:20230729T160000
DTSTAMP:20230530T180519Z
URL:https://wvpst.org/events/rope-rescue-technician-8/
SUMMARY:Rope Rescue Technician
DESCRIPTION:Rope Rescue Technician\n\nA 20-hour Rope Rescue Technician clas
 s will be held at Keyser Fire Department  July 29th and 30th starting at 
 8:00am\n\nEd Sankbeil is the instructor.\n\nPrerequisites: Rope Rescue Awa
 reness or Rescue Core Pre-requisites and Rope Rescue Operations.\n\nHelmet
 \, Gloves\, Safety Glasses\, and Boots must be provided by participants. 
  Participants can bring a harness or use those provided.\n\n&nbsp\;\n\nCli
 ck here for a TECHNICAL RESCUE TRAINING MATRIX\n\n&nbsp\;\n\nRope Rescue 
 Tech Flyer
CATEGORIES:WVPST Martinsburg
LOCATION:Keyser VFD Station 2\, 1550 Cornell St\, Keyser\, WV\, 26726\, Uni
 ted States
GEO:39.4300627;-78.99389180000003
X-APPLE-STRUCTURED-LOCATION;VALUE=URI;X-ADDRESS=1550 Cornell St\, Keyser\, 
 WV\, 26726\, United States;X-APPLE-RADIUS=100;X-TITLE=Keyser VFD Station 2
 :geo:39.4300627,-78.99389180000003
END:VEVENT
BEGIN:VTIMEZONE
TZID:America/New_York
X-LIC-LOCATION:America/New_York
BEGIN:DAYLIGHT
DTSTART:20230312T030000
TZOFFSETFROM:-0500
TZOFFSETTO:-0400
TZNAME:EDT
END:DAYLIGHT
END:VTIMEZONE
END:VCALENDAR