BEGIN:VCALENDAR
VERSION:2.0
PRODID:-//wp-events-plugin.com//7.2.3.1//EN
TZID:America/New_York
X-WR-TIMEZONE:America/New_York
BEGIN:VEVENT
UID:2142@wvpst.org
DTSTART;TZID=America/New_York:20220729T180000
DTEND;TZID=America/New_York:20220729T220000
DTSTAMP:20220728T190523Z
URL:https://wvpst.org/events/rope-rescue-awareness-operations-6/
SUMMARY:CANCELLED ~ Rope Rescue Awareness/Operations
DESCRIPTION:WVPST is pleased to announce a Rope Rescue Awareness and Rope R
 escue Operations class.\n\nWhen: July 29\, 30 and 31\, 2022\n\nTime: 1800-
 2200 on July 29\; 0900-1700 on July 30 and 31\n\nWhere: West Side VFD (256
  West Main St.\, St. Albans\, WV 25177)\n\nInstructor: Thomas Robinson\n\n
 Tuition: $35/person for 1 class or $45/person for Awareness and Ops\n\nCla
 ss Size: 20 seats\n\nThe rope rescue awareness/operations course is to be 
 taught in a 24-hour format and cover the material and skills for NFPA 1006
  Chapter 5 JPR’s 5.1.1 through 5.1.5 and 5.2.1 through 5.2.24\, and High
 -Angle Rope Rescue Techniques 4th edition chapters 1-8\, 11-13 and 16-18.\
 n\nPRE-REGISTRATION REQUIRED!! \n\nTo Register: Follow the guidelines in t
 he attached document using the course number in this posting. WVPST is ado
 pting a new registration platform that we believe will be more user-friend
 ly. Should you have any issues\, please contact Eva Godbey at eva.godbey@k
 12.wv.us. \n\nLink: www.pstachio.wvnet.edu (If link doesn't work\, use Go
 ogle Chrome and search PSTachio.wvnet.edu)\n\nCourse IDs: \n\nAwareness: 2
 3-033-03 WVPST Charleston\n\nOperations: 23-034-03 WVPST Charleston\n\nIf 
 you have any questions or issues registering\, please contact Eva Godbey 
 at eva.godbey@k12.wv.us\n\nPST Class Registrations\n\nGo to:  https://ps
 tachio.wvnet.edu/\n\nIf you don’t have an account\, click Register.\n\n 
 	Under location\, select the correct region of the hosted class.\n 	Parker
 sburg: Calhoun\, Gilmer\, Jackson\, Mason\, Putnam\, Roane\, Wirt\, Wood\n
  	Charleston: Boone\, Cabell\, Clay\, Kanawha\, Lincoln\, Logan\, Mingo\, 
 Wayne\n 	Complete all of the information.\n\n 	WVOEMS # is not applicable\
 , if you do not have a WVOEMS account\n\n\n 	Verify account through the em
 ail you receive from PSTachio.\n\n 	Once you have verified your account\, 
 the respective PST Regional Coordinator and Specialist will receive a noti
 fication to approve your account.\n\n\n 	After your account has been appro
 ved\, you need to log in using the email address and password you set up.\
 n 	Click Registration\n 	Enter the course number provided to you for the r
 espective course.\n\n 	Parkersburg 21-XXX-05\n 	Charleston 21-XXX-03\n\n\n
  	Press Enter after the course number is entered\n 	Click Register\n\n 	Yo
 u should be rerouted to your Transcript.\n\n\n\n**If you have taken PST co
 urses but have never created an account or try to register and are prompte
 d with an account already exists for that username\, contact your local PS
 T for a password reset.\n\n**Using the email address and password will all
 ow you to review your transcript for all PST classes you have taken since 
 July 2016\, provided you have used the same email address for each region.
   If you have taken a class and received a certificate\, but it doesn’t
  show up on your transcript\, contact the PST office for the area you took
  the course.\n\n**If you are unable to log in\, please contact Eva Godbey 
 for a password reset.  Eva.godbey@k12.wv.us or (304) 766-0011 ext. 22.
CATEGORIES:WVPST Charleston
LOCATION:West Side VFD\, 256 West Main St.\, St. Albans\, WV\, 25177\, Unit
 ed States
GEO:38.389327;-81.845761
X-APPLE-STRUCTURED-LOCATION;VALUE=URI;X-ADDRESS=256 West Main St.\, St. Alb
 ans\, WV\, 25177\, United States;X-APPLE-RADIUS=100;X-TITLE=West Side VFD:
 geo:38.389327,-81.845761
END:VEVENT
BEGIN:VTIMEZONE
TZID:America/New_York
X-LIC-LOCATION:America/New_York
BEGIN:DAYLIGHT
DTSTART:20220313T030000
TZOFFSETFROM:-0500
TZOFFSETTO:-0400
TZNAME:EDT
END:DAYLIGHT
END:VTIMEZONE
END:VCALENDAR