BEGIN:VCALENDAR
VERSION:2.0
PRODID:-//wp-events-plugin.com//7.2.3.1//EN
TZID:America/New_York
X-WR-TIMEZONE:America/New_York
BEGIN:VEVENT
UID:2140@wvpst.org
DTSTART;TZID=America/New_York:20220730T080000
DTEND;TZID=America/New_York:20220730T200000
DTSTAMP:20220714T190115Z
URL:https://wvpst.org/events/rope-rescue-awareness-operations-5/
SUMMARY:Rope Rescue Awareness & Operations
DESCRIPTION:WVPST is pleased to announce a Rope Rescue Awareness and Rope R
 escue Operations class.\n\nWhen: July 30 and 31\, 2022\n\nTime: 0800-2000 
 daily\n\nWhere: Racine VFD (400 Volunteer St.\, Racine\, WV 25165)\n\nInst
 ructor: Mark Brooks &amp\; Mike Johnson\n\nTuition: $45/person\n\nClass Si
 ze: 20 seats\n\nThe rope rescue awareness/operations course is to be taugh
 t in a 24-hour format and cover the material and skills for NFPA 1006 Chap
 ter 5 JPR’s 5.1.1 through 5.1.5 and 5.2.1 through 5.2.24\, and High-Angl
 e Rope Rescue Techniques 4th edition chapters 1-8\, 11-13 and 16-18.\n\nPR
 E-REGISTRATION REQUIRED!! \n\nTo Register: Follow the guidelines in the at
 tached document using the course number in this posting. WVPST is adopting
  a new registration platform that we believe will be more user-friendly. S
 hould you have any issues\, please contact Eva Godbey at eva.godbey@k12.wv
 .us. \n\nLink: www.pstachio.wvnet.edu (If link doesn't work\, use Google 
 Chrome and search PSTachio.wvnet.edu)\n\nCourse IDs: \n\nAwareness: 23-009
 -03 WVPST Charleston\n\nOperations: 23-010-03 WVPST Charleston\n\nIf you h
 ave any questions or issues registering\, please contact Eva Godbey at ev
 a.godbey@k12.wv.us\n\nPST Class Registrations\n\nGo to:  https://pstachi
 o.wvnet.edu/\n\nIf you don’t have an account\, click Register.\n\n 	Unde
 r location\, select the correct region of the hosted class.\n 	Parkersburg
 : Calhoun\, Gilmer\, Jackson\, Mason\, Putnam\, Roane\, Wirt\, Wood\n 	Cha
 rleston: Boone\, Cabell\, Clay\, Kanawha\, Lincoln\, Logan\, Mingo\, Wayne
 \n 	Complete all of the information.\n\n 	WVOEMS # is not applicable\, if 
 you do not have a WVOEMS account\n\n\n 	Verify account through the email y
 ou receive from PSTachio.\n\n 	Once you have verified your account\, the r
 espective PST Regional Coordinator and Specialist will receive a notificat
 ion to approve your account.\n\n\n 	After your account has been approved\,
  you need to log in using the email address and password you set up.\n 	Cl
 ick Registration\n 	Enter the course number provided to you for the respec
 tive course.\n\n 	Parkersburg 21-XXX-05\n 	Charleston 21-XXX-03\n\n\n 	Pre
 ss Enter after the course number is entered\n 	Click Register\n\n 	You sho
 uld be rerouted to your Transcript.\n\n\n\n**If you have taken PST courses
  but have never created an account or try to register and are prompted wit
 h an account already exists for that username\, contact your local PST for
  a password reset.\n\n**Using the email address and password will allow yo
 u to review your transcript for all PST classes you have taken since July 
 2016\, provided you have used the same email address for each region.  If
  you have taken a class and received a certificate\, but it doesn’t show
  up on your transcript\, contact the PST office for the area you took the 
 course.\n\n**If you are unable to log in\, please contact Eva Godbey for a
  password reset.  Eva.godbey@k12.wv.us or (304) 766-0011 ext. 22.
CATEGORIES:WVPST Charleston
LOCATION:Racine VFD\, 400 Volunteer St.\, Racine\, WV\, 25165\, United Stat
 es
GEO:38.137653;-81.64821
X-APPLE-STRUCTURED-LOCATION;VALUE=URI;X-ADDRESS=400 Volunteer St.\, Racine\
 , WV\, 25165\, United States;X-APPLE-RADIUS=100;X-TITLE=Racine VFD:geo:38.
 137653,-81.64821
END:VEVENT
BEGIN:VTIMEZONE
TZID:America/New_York
X-LIC-LOCATION:America/New_York
BEGIN:DAYLIGHT
DTSTART:20220313T030000
TZOFFSETFROM:-0500
TZOFFSETTO:-0400
TZNAME:EDT
END:DAYLIGHT
END:VTIMEZONE
END:VCALENDAR