BEGIN:VCALENDAR
VERSION:2.0
PRODID:-//wp-events-plugin.com//7.2.3.1//EN
TZID:America/New_York
X-WR-TIMEZONE:America/New_York
BEGIN:VEVENT
UID:2492@wvpst.org
DTSTART;TZID=America/New_York:20230721T180000
DTEND;TZID=America/New_York:20230721T220000
DTSTAMP:20230530T172837Z
URL:https://wvpst.org/events/rope-rescue-awareness-and-operations-6/
SUMMARY:Rope Rescue Awareness and Operations
DESCRIPTION:Rope Rescue Awareness and Operations\n\nA 24-hour Rope Rescue A
 wareness and Operations class will be held at Keyser Fire Department Stati
 on 2 starting July 21 at 6pm.\n\nClass will be Friday from 6-10 and Saturd
 ay and Sunday from 8-4\n\nEd Sankbeil is the instructor.\n\nHelmet\, Glove
 s\, Safety Glasses\, and Boots must be provided by participants.  Partici
 pants can bring a harness or use those provided.\n\nClick here for a TECHN
 ICAL RESCUE TRAINING MATRIX\n\n&nbsp\;\n\nRope Rescue A-O Flyer
CATEGORIES:WVPST Martinsburg
LOCATION:Keyser VFD Station 2\, 1550 Cornell St\, Keyser\, WV\, 26726\, Uni
 ted States
GEO:39.4300627;-78.99389180000003
X-APPLE-STRUCTURED-LOCATION;VALUE=URI;X-ADDRESS=1550 Cornell St\, Keyser\, 
 WV\, 26726\, United States;X-APPLE-RADIUS=100;X-TITLE=Keyser VFD Station 2
 :geo:39.4300627,-78.99389180000003
END:VEVENT
BEGIN:VTIMEZONE
TZID:America/New_York
X-LIC-LOCATION:America/New_York
BEGIN:DAYLIGHT
DTSTART:20230312T030000
TZOFFSETFROM:-0500
TZOFFSETTO:-0400
TZNAME:EDT
END:DAYLIGHT
END:VTIMEZONE
END:VCALENDAR