BEGIN:VCALENDAR
VERSION:2.0
PRODID:-//wp-events-plugin.com//7.2.3.1//EN
TZID:America/New_York
X-WR-TIMEZONE:America/New_York
BEGIN:VEVENT
UID:1033@wvpst.org
DTSTART;TZID=America/New_York:20190908T000000
DTEND;TZID=America/New_York:20190908T000000
DTSTAMP:20190821T130638Z
URL:https://wvpst.org/events/rescue-core-with-rope-rescue-level-1-4/
SUMMARY:Rescue Core with Rope Rescue Level 1
DESCRIPTION:RESCUE CORE PREREQUISITES WITH ROPE RESCUE LEVEL 1\n\n This 40
  hour Rescue Core Prerequisites with Rope Level 1 course includes coverage
  of the awareness level requirements found in the 2013 Edition of NFPA 167
 0\, Standard on Operations and Training for Technical Search and Rescue In
 cidents\, as well as of the general job performance requirements found in 
 Chapter 5 of the 2013 Edition of NFPA 1006\, Standard for Technical Rescue
 r Professional Qualifications. This course presents in-depth coverage of s
 tructural collapse\, confined space and trench rescue\, vehicle rescue\, a
 nd water and wilderness rescue\, allowing rescue organizations to approach
  any rescue situation safely and confidently.  This course will prepare y
 ou for further training in the more specialized and advanced skills necess
 ary in various technical rescue disciplines\, and is required prior to tak
 ing another of the other technical rescue courses.  Students successfully
  completing this course will also obtain Rope Level 1 certification NFPA 1
 006\, 2013 edition.\n\n&nbsp\;\n\nThis course is being conducted at Granvi
 lle Fire Department\, Granville\, West Virginia (Monongalia County). Class
  dates are September 8\, 12\, 17\, 22\, 24\, 26\, and 29\, 2019. Class tim
 es are 6:00 pm to 10:00 pm weekdays and 8:00 am – 6:00 pm weekends. John
  Lemley is the instructor.\n\n&nbsp\;\n\nREGISTER for this course by enter
 ing information below where requested.\n\n&nbsp\;\n\nTUITION is $45 per st
 udent. The textbook\, “Rescue Core Prerequisites” will be loaned to th
 e student for a $10 fee\, but it may be purchased at a cost of $70 each.
CATEGORIES:WVPST Clarksburg
LOCATION:Granville Volunteer Fire Department\, 1252 Main Street\, Granville
 \, WV\, 26534\, United States
GEO:39.6454983;-79.9859265
X-APPLE-STRUCTURED-LOCATION;VALUE=URI;X-ADDRESS=1252 Main Street\, Granvill
 e\, WV\, 26534\, United States;X-APPLE-RADIUS=100;X-TITLE=Granville Volunt
 eer Fire Department:geo:39.6454983,-79.9859265
END:VEVENT
BEGIN:VTIMEZONE
TZID:America/New_York
X-LIC-LOCATION:America/New_York
BEGIN:DAYLIGHT
DTSTART:20190310T030000
TZOFFSETFROM:-0500
TZOFFSETTO:-0400
TZNAME:EDT
END:DAYLIGHT
END:VTIMEZONE
END:VCALENDAR