BEGIN:VCALENDAR
VERSION:2.0
PRODID:-//wp-events-plugin.com//7.2.3.1//EN
TZID:America/New_York
X-WR-TIMEZONE:America/New_York
BEGIN:VEVENT
UID:1030@wvpst.org
DTSTART;TZID=America/New_York:20190618T180000
DTEND;TZID=America/New_York:20190618T220000
DTSTAMP:20190813T131749Z
URL:https://wvpst.org/events/rescue-core-with-rope-rescue-level-1-3/
SUMMARY:Rescue Core with Rope Rescue Level 1
DESCRIPTION:RESCUE CORE PREREQUISITES WITH ROPE RESCUE LEVEL 1\n\nThis 40 h
 our Rescue Core Prerequisites with Rope Rescue Level 1 course includes cov
 erage of the NFPA awareness level requirements for operating in the techni
 cal rescue environment\, as well as the general job performance requiremen
 ts found in Chapter 5 of the 2013 Edition of NFPA 1006\, Standard for Tech
 nical Rescuer Professional Qualifications. This course presents in-depth c
 overage of structural collapse\, confined space and trench rescue\, vehicl
 e rescue\, and water and wilderness rescue\, allowing rescue organizations
  to approach any rescue situation safely and confidently. This course will
  prepare you for further training in the more specialized and advanced ski
 lls necessary in various technical rescue disciplines\, and is required pr
 ior to taking any of the other technical rescue courses. Students successf
 ully completing this course will also obtain Rope Level 1 certification NF
 PA 1006\, 2013 edition.\n\nThis course is being conducted at Granville Fir
 e Department\, Granville\, West Virginia (Monongalia County). Class dates 
 and times are September 8\, 12\, 17\, 22\, 24\, 26\, 29 from 6 - 10 pm on 
 weekdays and 8 hour days on Sundays starting at 9:00am.  John Lemley is t
 he instructor.\n\nREGISTER for this course by clicking on the registration
  link below.\n\nTUITION is $45 per student. The textbook\, “Rescue Core 
 Prerequisites” will be loaned to the student for a $10 fee\, but it may 
 be purchased at a cost of $70 each.  Please make checks or money orders p
 ayable to "MSESC" or "Mountain State Educational Services Cooperative".
CATEGORIES:WVPST Clarksburg
LOCATION:Granville Volunteer Fire Department\, 1252 Main Street\, Granville
 \, WV\, 26534\, United States
GEO:39.6454983;-79.9859265
X-APPLE-STRUCTURED-LOCATION;VALUE=URI;X-ADDRESS=1252 Main Street\, Granvill
 e\, WV\, 26534\, United States;X-APPLE-RADIUS=100;X-TITLE=Granville Volunt
 eer Fire Department:geo:39.6454983,-79.9859265
END:VEVENT
BEGIN:VTIMEZONE
TZID:America/New_York
X-LIC-LOCATION:America/New_York
BEGIN:DAYLIGHT
DTSTART:20190310T030000
TZOFFSETFROM:-0500
TZOFFSETTO:-0400
TZNAME:EDT
END:DAYLIGHT
END:VTIMEZONE
END:VCALENDAR