BEGIN:VCALENDAR
VERSION:2.0
PRODID:-//wp-events-plugin.com//7.2.3.1//EN
TZID:America/New_York
X-WR-TIMEZONE:America/New_York
BEGIN:VEVENT
UID:456@wvpst.org
DTSTART;TZID=America/New_York:20180324T080000
DTEND;TZID=America/New_York:20180324T170000
DTSTAMP:20180314T191936Z
URL:https://wvpst.org/events/rescue-core-prerequisites-6/
SUMMARY:Rescue Core Prerequisites
DESCRIPTION:Rescue Core Prerequisites\n\nA 34-hour Rescue Core Prerequisite
 s class will be held at Shepherdstown VFD starting Saturday\, March 24\, 2
 018 at 8:00 am.  The class will meet March 24\, 8:00 am\; March 30\, 6:00
  pm\; March 31\, 8:00 am\; and April 14\, 8:00 am.  Ed Sankbeil is the in
 structor.  This 34-hour class is a prerequisite for NFPA 1006 Technical R
 escue Classes including Rope\, Confined Space\, Trench\, Vehicle and Machi
 nery\, and Water Rescue. Course Fees - $45 Tuition. Books are provided fo
 r use in class for a $10 rental fee\, or can be purchased for $70.\n\nClic
 k here for a Course Flyer\n\nClick here for the Technical Rescue Training 
 Matrix
CATEGORIES:WVPST Martinsburg
LOCATION:Shepherstown FD\, 8052 Martinsburg Pike\, Shepherdstown\, WV\, 254
 43\, United States
GEO:39.433548;-77.818751
X-APPLE-STRUCTURED-LOCATION;VALUE=URI;X-ADDRESS=8052 Martinsburg Pike\, She
 pherdstown\, WV\, 25443\, United States;X-APPLE-RADIUS=100;X-TITLE=Shepher
 stown FD:geo:39.433548,-77.818751
END:VEVENT
BEGIN:VTIMEZONE
TZID:America/New_York
X-LIC-LOCATION:America/New_York
BEGIN:DAYLIGHT
DTSTART:20180311T030000
TZOFFSETFROM:-0500
TZOFFSETTO:-0400
TZNAME:EDT
END:DAYLIGHT
END:VTIMEZONE
END:VCALENDAR