BEGIN:VCALENDAR
VERSION:2.0
PRODID:-//wp-events-plugin.com//7.2.3.1//EN
TZID:America/New_York
X-WR-TIMEZONE:America/New_York
BEGIN:VEVENT
UID:1016@wvpst.org
DTSTART;TZID=America/New_York:20190808T180000
DTEND;TZID=America/New_York:20190808T220000
DTSTAMP:20190801T170214Z
URL:https://wvpst.org/events/rescue-core-prerequisites-14/
SUMMARY:Rescue Core Prerequisites
DESCRIPTION:Rescue Core Prerequisites\n\nA 34-hour Rescue Core Prerequisite
 s class will be held at Seneca Rocks VFD starting Thursday\, August 8\, 20
 19 at 6:00 pm.  The class will meet on selected evenings in August with t
 he exact schedule to be determined by the instructor and students.  Mike 
 Alt is the instructor.  Class fee is $45.  Books are provided for a $10 
 rental fee or can be purchased for $70.\n\nClick here for a Course Flyer\n
 \nClick here for the TECHNICAL RESCUE TRAINING MATRIX
CATEGORIES:WVPST Martinsburg
LOCATION:Seneca Rocks VFD\, Allegheny Dr\, Seneca Rocks\, WV\, 26884\, Unit
 ed States
GEO:38.8579012;-79.4338788
X-APPLE-STRUCTURED-LOCATION;VALUE=URI;X-ADDRESS=Allegheny Dr\, Seneca Rocks
 \, WV\, 26884\, United States;X-APPLE-RADIUS=100;X-TITLE=Seneca Rocks VFD:
 geo:38.8579012,-79.4338788
END:VEVENT
BEGIN:VTIMEZONE
TZID:America/New_York
X-LIC-LOCATION:America/New_York
BEGIN:DAYLIGHT
DTSTART:20190310T030000
TZOFFSETFROM:-0500
TZOFFSETTO:-0400
TZNAME:EDT
END:DAYLIGHT
END:VTIMEZONE
END:VCALENDAR