BEGIN:VCALENDAR
VERSION:2.0
PRODID:-//wp-events-plugin.com//7.2.3.1//EN
TZID:America/New_York
X-WR-TIMEZONE:America/New_York
BEGIN:VEVENT
UID:1013@wvpst.org
DTSTART;TZID=America/New_York:20190907T080000
DTEND;TZID=America/New_York:20190907T180000
DTSTAMP:20190731T170938Z
URL:https://wvpst.org/events/rescue-core-prerequisites-13/
SUMMARY:Rescue Core Prerequisites
DESCRIPTION:Rescue Core Prerequisites\n\nA 34-hour Rescue Core Prerequisite
 s class will be held at Bedington VFD starting Saturday\, September 7\, 20
 19 at 8:00 am.  The class will meet Saturdays and Sundays\,  September 7
 \, 8\, 14 and 15\, from 8 am to 6 pm.  Ed Sankbeil is the instructor.  C
 lass fee is $45.  Books are provided for a $10 rental fee or can be purch
 ased for $70.\n\nClick here for a Course Flyer\n\nClick here for the TECHN
 ICAL RESCUE TRAINING MATRIX
CATEGORIES:WVPST Martinsburg
LOCATION:Bedington VFD\, 775 Bedington Road\, Martinsburg\, WV\, 25404\, Un
 ited States
GEO:39.5236229;-77.90470440000001
X-APPLE-STRUCTURED-LOCATION;VALUE=URI;X-ADDRESS=775 Bedington Road\, Martin
 sburg\, WV\, 25404\, United States;X-APPLE-RADIUS=100;X-TITLE=Bedington VF
 D:geo:39.5236229,-77.90470440000001
END:VEVENT
BEGIN:VTIMEZONE
TZID:America/New_York
X-LIC-LOCATION:America/New_York
BEGIN:DAYLIGHT
DTSTART:20190310T030000
TZOFFSETFROM:-0500
TZOFFSETTO:-0400
TZNAME:EDT
END:DAYLIGHT
END:VTIMEZONE
END:VCALENDAR