BEGIN:VCALENDAR
VERSION:2.0
PRODID:-//wp-events-plugin.com//7.2.3.1//EN
TZID:America/New_York
X-WR-TIMEZONE:America/New_York
BEGIN:VEVENT
UID:1586@wvpst.org
DTSTART;TZID=America/New_York:20201104T133000
DTEND;TZID=America/New_York:20201104T143000
DTSTAMP:20201029T150038Z
URL:https://wvpst.org/events/recertification-process-guidance/
SUMMARY:Recertification Process Guidance Virtual Session
DESCRIPTION:We frequently receive calls with questions on navigating the pr
 ocess of EMS provider recertification in West Virginia.  On Wednesday\, N
 ovember 4\, 2020\, starting at 1:30pm\, we will be offering a virtual help
  session to help provide guidance on the NREMT and West Virginia recertifi
 cation process.  To the best of our ability\, we will help show how to en
 ter and track education in the NREMT system\, complete a SETS application\
 , and answer questions.  If you would like to attend\, please complete th
 e registration form below\, and a link to the virtual meeting will be sent
  out the day before it is scheduled to begin.\n\nClick here to register fo
 r this session.
CATEGORIES:WVPST All
LOCATION:WVPST Clarksburg - Online\, 251 Marietta Street\, Clarksburg\, WV\
 , 26301\, United States
GEO:39.310776;-80.358852
X-APPLE-STRUCTURED-LOCATION;VALUE=URI;X-ADDRESS=251 Marietta Street\, Clark
 sburg\, WV\, 26301\, United States;X-APPLE-RADIUS=100;X-TITLE=WVPST Clarks
 burg - Online:geo:39.310776,-80.358852
END:VEVENT
BEGIN:VTIMEZONE
TZID:America/New_York
X-LIC-LOCATION:America/New_York
BEGIN:STANDARD
DTSTART:20201101T010000
TZOFFSETFROM:-0400
TZOFFSETTO:-0500
TZNAME:EST
END:STANDARD
END:VTIMEZONE
END:VCALENDAR