BEGIN:VCALENDAR
VERSION:2.0
PRODID:-//wp-events-plugin.com//7.2.3.1//EN
TZID:America/New_York
X-WR-TIMEZONE:America/New_York
BEGIN:VEVENT
UID:2991@wvpst.org
DTSTART;TZID=America/New_York:20260604T180000
DTEND;TZID=America/New_York:20260604T220000
DTSTAMP:20260330T174854Z
URL:https://wvpst.org/events/passenger-vehicle-awareness-and-operations-2/
SUMMARY:Passenger Vehicle Awareness and Operations
DESCRIPTION:A passenger vehicle awareness and operations course (meets NFPA
  1006\, 2021 edition) will be held at Star City VFD (Monongalia County) on
  June 4\, 6\, and 7\, 2026.  Class times are 6-10pm weekdays and Sat./Sun
 . 8am - 6pm.  Jimmy Glassock is the lead instructor.  Students will need
  to come prepared to class sessions with PPE appropriate for vehicle rescu
 e.\n\nCost for the class is $90 tuition and the course textbook will be av
 ailable at a cost of $85 each.\n\nClick here to register.\n\nContact the W
 VPST Clarksburg office with any questions at 304-326-7581.
CATEGORIES:WVPST Clarksburg
LOCATION:Star City Volunteer Fire Department\, 3380 University Avenue\, Mor
 gantown\, WV\, 26501\, United States
GEO:39.65765;-79.98195
X-APPLE-STRUCTURED-LOCATION;VALUE=URI;X-ADDRESS=3380 University Avenue\, Mo
 rgantown\, WV\, 26501\, United States;X-APPLE-RADIUS=100;X-TITLE=Star City
  Volunteer Fire Department:geo:39.65765,-79.98195
END:VEVENT
BEGIN:VTIMEZONE
TZID:America/New_York
X-LIC-LOCATION:America/New_York
BEGIN:DAYLIGHT
DTSTART:20260308T030000
TZOFFSETFROM:-0500
TZOFFSETTO:-0400
TZNAME:EDT
END:DAYLIGHT
END:VTIMEZONE
END:VCALENDAR