BEGIN:VCALENDAR
VERSION:2.0
PRODID:-//wp-events-plugin.com//7.2.3.1//EN
TZID:America/New_York
X-WR-TIMEZONE:America/New_York
BEGIN:VEVENT
UID:454@wvpst.org
DTSTART;TZID=America/New_York:20180415T140000
DTEND;TZID=America/New_York:20180415T160000
DTSTAMP:20180313T183241Z
URL:https://wvpst.org/events/online-fire-fighter-1-and-2/
SUMMARY:Online Fire Fighter 1 and 2
DESCRIPTION:Online Fire Fighter 1 and 2\n\nAn online Fire Fighter 1 and 2 c
 lass will be hosted by Patterson Creek VFD starting Sunday\, April 15\, 20
 18 at 2:00 pm.  Training will be done online instead of traditional class
 room instruction. Practical skills sessions will be hands on training.  T
 he class includes FF 1\, FF 2\, HazMat Awareness/Operations\, and First Ai
 d/CPR.  Participants must attend the registration session on Sunday\, Apr
 il 15 at Patterson Creek VFC. The class will be canceled if the minimum en
 rollment number is not met. Practical Skills training sessions will be on 
 evenings and weekends with exact dates to be determined by the instructor 
 and class participants.  Mike Alt is the instructor.  There is a maximum
  of 30 participants. Someone already certified at the Firefighter 1 level 
 can participate in the class to receive Firefighter 2.  Course Fee of $22
 5 includes tuition\, book\, and online access. Payment or billing informat
 ion must be provided at registration to enroll in the class. A $50 supply 
 fee may be charged.\n\nClick here for a Course Flyer\n\nClick here for det
 ails of FF 1 and 2 online Class\n\n&nbsp\;\n\n&nbsp\;
CATEGORIES:WVPST Martinsburg
LOCATION:Patterson Creek VFC\, 4022 Patterson Creek Valley Pike\, Ridgeley\
 , WV\, 26753\, United States
GEO:39.56311089674117;-78.72905876579591
X-APPLE-STRUCTURED-LOCATION;VALUE=URI;X-ADDRESS=4022 Patterson Creek Valley
  Pike\, Ridgeley\, WV\, 26753\, United States;X-APPLE-RADIUS=100;X-TITLE=P
 atterson Creek VFC:geo:39.56311089674117,-78.72905876579591
END:VEVENT
BEGIN:VTIMEZONE
TZID:America/New_York
X-LIC-LOCATION:America/New_York
BEGIN:DAYLIGHT
DTSTART:20180311T030000
TZOFFSETFROM:-0500
TZOFFSETTO:-0400
TZNAME:EDT
END:DAYLIGHT
END:VTIMEZONE
END:VCALENDAR