BEGIN:VCALENDAR
VERSION:2.0
PRODID:-//wp-events-plugin.com//7.2.3.1//EN
TZID:America/New_York
X-WR-TIMEZONE:America/New_York
BEGIN:VEVENT
UID:2927@wvpst.org
DTSTART;TZID=America/New_York:20260313T180000
DTEND;TZID=America/New_York:20260313T220000
DTSTAMP:20260121T202505Z
URL:https://wvpst.org/events/nims-400-advanced-incident-command-system-6/
SUMMARY:NIMS 400: Advanced Incident Command System
DESCRIPTION:NIMS 400: Advanced Incident Command System\n\nThis 16-hour Adva
 nced Incident Command System (NIMS 400) course is being conducted at Tunne
 lton Volunteer Fire Department (Preston County).  Class dates/times are F
 riday\, Saturday\, and Sunday\, March 13\, 14\, and 15\, 2026.  Class wil
 l begin at 6pm Friday\, and then 8am Saturday and Sunday.  Rodney Strait 
 is the instructor.  You must attend all of class to receive a certificate
 .\n\nSTUDENT MATERIALS WILL BE PROVIDED IN AN ELECTRONIC FORMAT.  PLEASE 
 BRING A LAPTOP OR SIMILAR DEVICE TO ACCESS THE STUDENT MATERIAL.\n\nPREREQ
 UISITE:  NIMS 100\, 200\, 300\, 700\, and 800.  Must bring copies of you
 r certificates to the first class session.\n\nTUITION: $50 per student.\n\
 nClick here to register.
CATEGORIES:WVPST Clarksburg
LOCATION:Tunnelton Volunteer Fire Department\, 42 Bank Street\, Tunnelton\,
  West Virginia\, 26444\, United States
GEO:39.391684;-79.747392
X-APPLE-STRUCTURED-LOCATION;VALUE=URI;X-ADDRESS=42 Bank Street\, Tunnelton\
 , West Virginia\, 26444\, United States;X-APPLE-RADIUS=100;X-TITLE=Tunnelt
 on Volunteer Fire Department:geo:39.391684,-79.747392
END:VEVENT
BEGIN:VTIMEZONE
TZID:America/New_York
X-LIC-LOCATION:America/New_York
BEGIN:DAYLIGHT
DTSTART:20260308T030000
TZOFFSETFROM:-0500
TZOFFSETTO:-0400
TZNAME:EDT
END:DAYLIGHT
END:VTIMEZONE
END:VCALENDAR