BEGIN:VCALENDAR
VERSION:2.0
PRODID:-//wp-events-plugin.com//7.2.3.1//EN
TZID:America/New_York
X-WR-TIMEZONE:America/New_York
BEGIN:VEVENT
UID:2564@wvpst.org
DTSTART;TZID=America/New_York:20231007T080000
DTEND;TZID=America/New_York:20231007T170000
DTSTAMP:20230814T175436Z
URL:https://wvpst.org/events/nims-400-advanced-incident-command-system-4/
SUMMARY:NIMS 400: Advanced Incident Command System
DESCRIPTION:NIMS 400: Advanced Incident Command System\n\nThis 16-hour Adva
 nced Incident Command System (NIMS 400) course is being conducted at Cheat
  Lake Volunteer Fire Department\, Morgantown\, WV (Monongalia County).  C
 lass dates/times are Saturday\, October 7 and Sunday\, October 8\, 2023 fr
 om 8am-5:00pm each day.  Rodney Strait is the instructor.  You must atte
 nd both days to receive a certificate.\n\nSTUDENT MATERIALS WILL BE PROVID
 ED IN AN ELECTRONIC FORMAT.  PLEASE BRING A LAPTOP OR SIMILAR DEVICE TO A
 CCESS THE STUDENT MATERIAL.\n\nPREREQUISITE:  NIMS 100\, 200\, 300\, 700\
 , and 800.  Must bring copies of your certificates to the first class ses
 sion.\n\nTUITION: $45 per student.\n\nClick here to register.
CATEGORIES:WVPST Clarksburg
LOCATION:Cheat Lake VFD\, 409 Fairchance Road  \, Morgantown\, WV\, 26508\,
  United States
GEO:39.680677;-79.84136
X-APPLE-STRUCTURED-LOCATION;VALUE=URI;X-ADDRESS=409 Fairchance Road  \, Mor
 gantown\, WV\, 26508\, United States;X-APPLE-RADIUS=100;X-TITLE=Cheat Lake
  VFD:geo:39.680677,-79.84136
END:VEVENT
BEGIN:VTIMEZONE
TZID:America/New_York
X-LIC-LOCATION:America/New_York
BEGIN:DAYLIGHT
DTSTART:20230312T030000
TZOFFSETFROM:-0500
TZOFFSETTO:-0400
TZNAME:EDT
END:DAYLIGHT
END:VTIMEZONE
END:VCALENDAR