BEGIN:VCALENDAR
VERSION:2.0
PRODID:-//wp-events-plugin.com//7.2.3.1//EN
TZID:America/New_York
X-WR-TIMEZONE:America/New_York
BEGIN:VEVENT
UID:1017@wvpst.org
DTSTART;TZID=America/New_York:20190824T080000
DTEND;TZID=America/New_York:20190824T180000
DTSTAMP:20190819T192310Z
URL:https://wvpst.org/events/nims-300-intermediate-ics-for-expanding-incid
 ents/
SUMMARY:NIMS 300: Intermediate ICS for Expanding Incidents
DESCRIPTION:NIMS 300 Intermediate ICS for Expanding Incidents\n\nThis 18-ho
 ur Intermediate Incident Command System (NIMS 300) course is being conduct
 ed at Granville Volunteer Fire Department\, Morgantown\, WV (Monongalia Co
 unty).  Class dates/times are Saturday\, August 24\, from 8am-6pm\, and S
 unday August 25 from 8am-4pm.  Rodney Strait is the instructor.  You mus
 t attend both days to receive a certificate.\n\nSTUDENT MATERIALS WILL BE 
 PROVIDED IN AN ELECTRONIC FORMAT.  PLEASE BRING A LAPTOP OR SIMILAR DEVIC
 E TO ACCESS THE STUDENT MATERIAL.\n\nPREREQUISITE:  NIMS 100\, 200\, 700 
 and 800.  Must bring copies of your certificates to the first class sessi
 on.\n\nREGISTRATION:  Register by entering the requested information belo
 w.\n\nTUITION: $35 per student.\n\n&nbsp\;
CATEGORIES:WVPST Clarksburg
LOCATION:Granville Volunteer Fire Department\, 1252 Main Street\, Granville
 \, WV\, 26534\, United States
GEO:39.6454983;-79.9859265
X-APPLE-STRUCTURED-LOCATION;VALUE=URI;X-ADDRESS=1252 Main Street\, Granvill
 e\, WV\, 26534\, United States;X-APPLE-RADIUS=100;X-TITLE=Granville Volunt
 eer Fire Department:geo:39.6454983,-79.9859265
END:VEVENT
BEGIN:VTIMEZONE
TZID:America/New_York
X-LIC-LOCATION:America/New_York
BEGIN:DAYLIGHT
DTSTART:20190310T030000
TZOFFSETFROM:-0500
TZOFFSETTO:-0400
TZNAME:EDT
END:DAYLIGHT
END:VTIMEZONE
END:VCALENDAR