BEGIN:VCALENDAR
VERSION:2.0
PRODID:-//wp-events-plugin.com//7.2.3.1//EN
TZID:America/New_York
X-WR-TIMEZONE:America/New_York
BEGIN:VEVENT
UID:2662@wvpst.org
DTSTART;TZID=America/New_York:20240120T080000
DTEND;TZID=America/New_York:20240120T170000
DTSTAMP:20231212T150035Z
URL:https://wvpst.org/events/nims-300-intermediate-ics-for-expanding-incid
 ents-5/
SUMMARY:NIMS 300: Intermediate ICS for Expanding Incidents
DESCRIPTION:NIMS 300 Intermediate ICS for Expanding Incidents\n\nThis 21-ho
 ur Intermediate Incident Command System (NIMS 300) course is being conduct
 ed at Winfield District Volunteer Fire Department\, Fairmont\, WV (Marion 
 County).  Class dates/times are Saturday and Sunday January 20 &amp\; 21\
 , 2024 from 8am-5pm.  Rodney Strait is the instructor.  You must attend 
 both days to receive a certificate.\n\nSTUDENT MATERIALS WILL BE PROVIDED 
 IN AN ELECTRONIC FORMAT.  PLEASE BRING A LAPTOP OR SIMILAR DEVICE TO ACCE
 SS THE STUDENT MATERIAL.\n\nPREREQUISITE:  NIMS 100\, 200\, 700 and 800.
   Must bring copies of your certificates to the first class session.\n\nT
 UITION: $45 per student.\n\nClick here to register.\n\n&nbsp\;
CATEGORIES:WVPST Clarksburg
LOCATION:Winfield District VFD\, 112 Firehouse Rd.\, Fairmont\, WV\, United
  States
GEO:39.492353;-80.094063
X-APPLE-STRUCTURED-LOCATION;VALUE=URI;X-ADDRESS=112 Firehouse Rd.\, Fairmon
 t\, WV\, United States;X-APPLE-RADIUS=100;X-TITLE=Winfield District VFD:ge
 o:39.492353,-80.094063
END:VEVENT
BEGIN:VTIMEZONE
TZID:America/New_York
X-LIC-LOCATION:America/New_York
BEGIN:STANDARD
DTSTART:20231105T010000
TZOFFSETFROM:-0400
TZOFFSETTO:-0500
TZNAME:EST
END:STANDARD
END:VTIMEZONE
END:VCALENDAR