BEGIN:VCALENDAR
VERSION:2.0
PRODID:-//wp-events-plugin.com//7.2.3.1//EN
TZID:America/New_York
X-WR-TIMEZONE:America/New_York
BEGIN:VEVENT
UID:2563@wvpst.org
DTSTART;TZID=America/New_York:20230909T080000
DTEND;TZID=America/New_York:20230909T170000
DTSTAMP:20230816T173737Z
URL:https://wvpst.org/events/nims-300-intermediate-ics-for-expanding-incid
 ents-4/
SUMMARY:NIMS 300: Intermediate ICS for Expanding Incidents
DESCRIPTION:NIMS 300 Intermediate ICS for Expanding Incidents\n\nThis 18-ho
 ur Intermediate Incident Command System (NIMS 300) course is being conduct
 ed at Cheat Lake Volunteer Fire Department\, Morgantown\, WV (Monongalia C
 ounty).  Class dates/times are Saturday and Sunday September 9 &amp\; 10\
 , 2023 from 8am-5pm.  Rodney Strait is the instructor.  You must attend 
 both days to receive a certificate.\n\nSTUDENT MATERIALS WILL BE PROVIDED 
 IN AN ELECTRONIC FORMAT.  PLEASE BRING A LAPTOP OR SIMILAR DEVICE TO ACCE
 SS THE STUDENT MATERIAL.\n\nPREREQUISITE:  NIMS 100\, 200\, 700 and 800.
   Must bring copies of your certificates to the first class session.\n\nT
 UITION: $45 per student.\n\nClick here to register.\n\n&nbsp\;
CATEGORIES:WVPST Clarksburg
LOCATION:Cheat Lake VFD\, 409 Fairchance Road  \, Morgantown\, WV\, 26508\,
  United States
GEO:39.680677;-79.84136
X-APPLE-STRUCTURED-LOCATION;VALUE=URI;X-ADDRESS=409 Fairchance Road  \, Mor
 gantown\, WV\, 26508\, United States;X-APPLE-RADIUS=100;X-TITLE=Cheat Lake
  VFD:geo:39.680677,-79.84136
END:VEVENT
BEGIN:VTIMEZONE
TZID:America/New_York
X-LIC-LOCATION:America/New_York
BEGIN:DAYLIGHT
DTSTART:20230312T030000
TZOFFSETFROM:-0500
TZOFFSETTO:-0400
TZNAME:EDT
END:DAYLIGHT
END:VTIMEZONE
END:VCALENDAR