BEGIN:VCALENDAR
VERSION:2.0
PRODID:-//wp-events-plugin.com//7.2.3.1//EN
TZID:America/New_York
X-WR-TIMEZONE:America/New_York
BEGIN:VEVENT
UID:1691@wvpst.org
DTSTART;TZID=America/New_York:20210326T180000
DTEND;TZID=America/New_York:20210326T220000
DTSTAMP:20210325T155753Z
URL:https://wvpst.org/events/nims-300-and-400/
SUMMARY:NIMS 300 and 400
DESCRIPTION:A NIMS 300 and 400 series will be provided at Moorefield VFC. S
 tudents are required to have a laptop computer or tablet to access course 
 material. Pre-registration is required.\n\nNIMS 300 - 400 Course Flyer
CATEGORIES:WVPST Martinsburg
END:VEVENT
BEGIN:VTIMEZONE
TZID:America/New_York
X-LIC-LOCATION:America/New_York
BEGIN:DAYLIGHT
DTSTART:20210314T030000
TZOFFSETFROM:-0500
TZOFFSETTO:-0400
TZNAME:EDT
END:DAYLIGHT
END:VTIMEZONE
END:VCALENDAR