BEGIN:VCALENDAR
VERSION:2.0
PRODID:-//wp-events-plugin.com//7.2.3.1//EN
TZID:America/New_York
X-WR-TIMEZONE:America/New_York
BEGIN:VEVENT
UID:2651@wvpst.org
DTSTART;TZID=America/New_York:20231208T170000
DTEND;TZID=America/New_York:20231208T220000
DTSTAMP:20231129T201706Z
URL:https://wvpst.org/events/naemt-evos-class/
SUMMARY:NAEMT EVOS Class
DESCRIPTION:NAEMT's EMS Vehicle Operator Safety (EVOS) course addresses the
  knowledge gap that leads to injuries and deaths\, and focuses on the spec
 ific behaviors that need to be changed to create a culture of safe driving
 .\n\nDrawing on the most current research about the behaviors and other ha
 zards that lead to crashes\, EVOS features case studies and analyses of bo
 th common and catastrophic collisions. EVOS challenges EMS practitioners t
 o reconsider their preconceptions about safe vehicle operations. Instructo
 rs can easily incorporate local laws\, rules and policies into the curricu
 lum. Topics covered in the course include:\n\n 	Making driving safety a pr
 iority\n 	Legal aspects of EMS vehicle operation\n 	Maneuvering an EMS veh
 icle\n 	Vehicle inspection and maintenance\n 	Mental\, emotional and physi
 cal preparedness\n 	Emergency response\n 	Crash prevention\n 	Driving skil
 ls\n 	Technological aids\n 	Simulation training\n\nEVOS is appropriate for
  EMS practitioners at all levels.  EVOS is accredited by CAPCE and recogn
 ized by NREMT.\n\nThis course is approved by the WV Office of EMS\n\nMust 
 be 18 years old to take this course.\n\nNick Wade is the instructor of the
  course.\n\nCost of the course is $30\n\nThis is a 16 hour course.  Class
  Dates are December 8 5 pm to 10 pm and December 9 8 am to 7 pm
CATEGORIES:WVPST Clarksburg
LOCATION:United Technical Center\, 251 Marietta St.\, Clarksburg\, West Vir
 ginia\, 26301\, United States
GEO:39.310776;-80.358852
X-APPLE-STRUCTURED-LOCATION;VALUE=URI;X-ADDRESS=251 Marietta St.\, Clarksbu
 rg\, West Virginia\, 26301\, United States;X-APPLE-RADIUS=100;X-TITLE=Unit
 ed Technical Center:geo:39.310776,-80.358852
END:VEVENT
BEGIN:VTIMEZONE
TZID:America/New_York
X-LIC-LOCATION:America/New_York
BEGIN:STANDARD
DTSTART:20231105T010000
TZOFFSETFROM:-0400
TZOFFSETTO:-0500
TZNAME:EST
END:STANDARD
END:VTIMEZONE
END:VCALENDAR