BEGIN:VCALENDAR
VERSION:2.0
PRODID:-//wp-events-plugin.com//7.2.3.1//EN
TZID:America/New_York
X-WR-TIMEZONE:America/New_York
BEGIN:VEVENT
UID:2561@wvpst.org
DTSTART;TZID=America/New_York:20230905T180000
DTEND;TZID=America/New_York:20230905T220000
DTSTAMP:20230811T155157Z
URL:https://wvpst.org/events/module-1-firefighter/
SUMMARY:Module 1 Firefighter
DESCRIPTION:West Virginia Public Service Training will be offering a WV Fir
 e Fighter 1\, Module 1 course at Dunlow VFD (1383 Left Fork Dunlow Bypass 
 Rd.\, Dunlow\, WV 25511). Class will lead straight through Module 4.\n\nTh
 is 36.5-hour module course covers subjects such as: History of the Fire S
 ervice\, Fire Fighter Safety\, PPE/SCBA\, Fire Service Communications\, IC
 S\, First Aid/CPR &amp\; HazMat Awareness.\n\nDates: September 5\, 7\, 12\
 , 19\, 21\, 23\, 26\, and 28\, 2023\n\nTimes: 1800-2200 on Tuesdays and Th
 ursdays and 0900-1730 on Saturday\n\nInstructor: Cody Robinson\n\nLocatio
 n: Dunlow VFD (1383 Left Fork Dunlow Bypass Rd.\, Dunlow\, WV 25511\n\nTu
 ition: $50/module per person\n\nBook: $75\n\nPREREQUISTITES: REGISTRANTS 
 MUST BE AT LEAST 16 YEARS OLD\n\nTo Register: Follow the guidelines in the
  attached document using the course number in this posting. WVPST is adopt
 ing a new registration platform that we believe will be more user-friendly
 . Should you have any issues\, please contact Eva Godbey at eva.godbey@k12
 .wv.us. \n\nLink: www.pstachio.wvnet.edu (If link doesn't work\, use Goog
 le Chrome and search PSTachio.wvnet.edu)\n\nCourse ID: 24-084-03 WVPST Cha
 rleston\n\nIf you have any questions or issues registering\, please contac
 t Eva Godbey at eva.godbey@k12.wv.us\n\n
CATEGORIES:WVPST Charleston
LOCATION:Dunlow VFD\, 1383 Left Fork Dunlow Bypass Road\, Dunlow\, WV\, 255
 11\, United States
GEO:38.023062;-82.43156
X-APPLE-STRUCTURED-LOCATION;VALUE=URI;X-ADDRESS=1383 Left Fork Dunlow Bypas
 s Road\, Dunlow\, WV\, 25511\, United States;X-APPLE-RADIUS=100;X-TITLE=Du
 nlow VFD:geo:38.023062,-82.43156
END:VEVENT
BEGIN:VTIMEZONE
TZID:America/New_York
X-LIC-LOCATION:America/New_York
BEGIN:DAYLIGHT
DTSTART:20230312T030000
TZOFFSETFROM:-0500
TZOFFSETTO:-0400
TZNAME:EDT
END:DAYLIGHT
END:VTIMEZONE
END:VCALENDAR