BEGIN:VCALENDAR
VERSION:2.0
PRODID:-//wp-events-plugin.com//7.2.3.1//EN
TZID:America/New_York
X-WR-TIMEZONE:America/New_York
BEGIN:VEVENT
UID:447@wvpst.org
DTSTART;TZID=America/New_York;VALUE=DATE:20180427
DTEND;TZID=America/New_York;VALUE=DATE:20180430
DTSTAMP:20180320T151920Z
URL:https://wvpst.org/events/mineral-county-emergency-services-training-we
 ekend/
SUMMARY:Mineral County Emergency Services Training Weekend
DESCRIPTION:Mineral County Emergency Services Training Weekend\n\nClick her
 e for a 1-page flyer\n\nClick here for the full Brochure\n\nThe Mineral Co
 unty Emergency Services Training Weekend will be held at Keyser High Schoo
 l April 27\, 28 &amp\; 29\, 2018.\n\nFRIDAY\, SATURDAY\, AND SUNDAY CLASSE
 S\n\n   Rope Rescue\, Level 1. - 20 hrs\, Fri 6 to 10 pm\, Sat &amp\; Su
 n 8 am to 5 pm\n\n   NIMS / ICS 300 - 20 hrs\, Fri 6 to 10 pm\, Sat &amp
 \; Sun 8 am to 5 pm\n\nSATURDAY AND SUNDAY CLASSES\n\n   Vehicle &amp\; 
 Machinery Rescue\, Level 1 - 16 hrs\, Sat and Sun 8 - 5\n\n   Emergency 
 Vehicle Operations Course - 16 hrs\, Sat and Sun 8 -5\n\nSATURDAY CLASSES\
 n\n   ATV Safety and Rescue - 9 hrs\, Sat 8 am to 6 pm\n\n   Multi-Lea
 d Medicsä12 Lead ECG Interpretation by Bob Page - 8 hrs\, Sat 8 am to 5 p
 m\n\nSUNDAY CLASSES\n\n   ROV Safety and Use by Emergency Responders - 8
  hrs\, Sun 8 am to 5 pm\n\n   Pediatric Emergency Assessment Course by B
 ob Page and Dusty-Lynn Page - 8 hrs\, Sun 8 am to 5 pm\n\n·       
   2 day registration is $65 for early registration and $75 for registrati
 on at the school\n\n·         1 day registration $35 for early re
 gistration and $45 for registration at the school\n\nClick here for full d
 etails and class descriptions
CATEGORIES:WVPST Martinsburg
LOCATION:Keyser High School\, 1 Tornado Way\, Keyser\, WV\, 26726\, United 
 States
GEO:39.3996909;-79.0213966
X-APPLE-STRUCTURED-LOCATION;VALUE=URI;X-ADDRESS=1 Tornado Way\, Keyser\, WV
 \, 26726\, United States;X-APPLE-RADIUS=100;X-TITLE=Keyser High School:geo
 :39.3996909,-79.0213966
END:VEVENT
BEGIN:VTIMEZONE
TZID:America/New_York
X-LIC-LOCATION:America/New_York
BEGIN:DAYLIGHT
DTSTART:20180311T030000
TZOFFSETFROM:-0500
TZOFFSETTO:-0400
TZNAME:EDT
END:DAYLIGHT
END:VTIMEZONE
END:VCALENDAR